BEGIN:VCALENDAR
PRODID:NingEventWidget-v1
VERSION:2.0
METHOD:PUBLISH
BEGIN:VTIMEZONE
TZID:Europe/London
X-LIC-LOCATION:Europe/London
BEGIN:DAYLIGHT
TZOFFSETFROM:+0000
TZOFFSETTO:+0100
TZNAME:BST
DTSTART:19700329T010000
RRULE:FREQ=YEARLY;BYMONTH=3;BYDAY=-1SU
END:DAYLIGHT
BEGIN:STANDARD
TZOFFSETFROM:+0100
TZOFFSETTO:+0000
TZNAME:GMT
DTSTART:19701025T020000
RRULE:FREQ=YEARLY;BYMONTH=10;BYDAY=-1SU
END:STANDARD
END:VTIMEZONE
BEGIN:VEVENT
UID:6278630:Event:239928
DTSTAMP:20260421T171226Z
SUMMARY:The Story of Me: Family Art Workshop
DESCRIPTION:Come along to Bruce Castle for a colourful special event
  and get hands-on and creative in our free workshop.\nYou can help art
 ist Dominika Lipniewska by contributing your ideas and drawings to our
  ‘IDENTITY’ project.\nHave fun creating different types of self-po
 rtraits with Dominika and tell us about your likes, talents, favourite
  things you like to do and quirks that make you unique. Your drawings 
 and thoughts will inspire the designs to decorate a story-telling chai
 r that will be used to collect stories for the Hi CULTURE! project.\n
 All ages and abilities welcome! Just turn up.\nDominika Lipniewska is
  an independent illustrator, author and designer from Poland who works
  from her studio in Tottenham. Her work, heavily inspired by people sh
 e comes across every day, has landed her commissions with numerous int
 ernational institutions and publishers like Tate, Munch Museum and Fin
 ancial Times.\n\nFor more information visit https://bowesandbounds.org
 /events/the-story-of-me-family-art-workshop
DTSTART;TZID=Europe/London:20220522T133000
DTEND;TZID=Europe/London:20220522T160000
CATEGORIES:family, art, workshop, bruce, castle, museum, local, histor
 y, culture, and, identity, artist, haringey, heritage, arts, crafts
LOCATION:Bruce Castle Museum
WEBSITE:http://www.brucecastle.org
URL:http://www.brucecastle.org
CONTACT:020 8489 4250
ORGANIZER;CN="Deborah Hedgecock":https://bowesandbounds.org/profile/De
 borahHedgecock
ATTACH;FMTTYPE="image/jpeg":https://storage.ning.com/topology/rest/1.0
 /file/get/10469517874?profile=original
ATTENDEE;ROLE=REQ-PARTICIPANT;PARTSTAT=ACCEPTED;RSVP=TRUE;CN="Deborah 
 Hedgecock":https://bowesandbounds.org/profile/DeborahHedgecock
END:VEVENT
END:VCALENDAR
