BEGIN:VCALENDAR
PRODID:NingEventWidget-v1
VERSION:2.0
METHOD:PUBLISH
BEGIN:VTIMEZONE
TZID:Europe/London
X-LIC-LOCATION:Europe/London
BEGIN:DAYLIGHT
TZOFFSETFROM:+0000
TZOFFSETTO:+0100
TZNAME:BST
DTSTART:19700329T010000
RRULE:FREQ=YEARLY;BYMONTH=3;BYDAY=-1SU
END:DAYLIGHT
BEGIN:STANDARD
TZOFFSETFROM:+0100
TZOFFSETTO:+0000
TZNAME:GMT
DTSTART:19701025T020000
RRULE:FREQ=YEARLY;BYMONTH=10;BYDAY=-1SU
END:STANDARD
END:VTIMEZONE
BEGIN:VEVENT
UID:6278630:Event:57538
DTSTAMP:20260425T165028Z
SUMMARY:The Tip Top Table Sale
DESCRIPTION:Our Tip Top Table Sale is back on it's usual second Thursd
 ay of the month.\nThe Step will be transformed into an Aladdin’s Cav
 e of vintage and handmade jewellery, clothes, homeware and gifts, and 
 you can have a cracking cocktail too.\nWe’ll be playing vintage tune
 s and serving delicious drinks & yum food… so come on over and enjoy
  a shopping night with a difference. Meet the sellers and find some ba
 rgains a-plenty!\nThis month we have the following great sellers:\nA R
 oom In My House – vintage homeware and handmade gifts\nSavages Small
 s – retro clothes for children and handmade corsets\nEvthokia – ha
 ndmade silver jewellery\nOh Squirrel – vintage photographs, handmade
  cards and jewellery\n& Shareen Earles-Greaves – vintage gifts and h
 omeware\n\nThursday 11th April, 7.30-10pm\n\n\nFor more information vi
 sit https://bowesandbounds.org/events/the-tip-top-table-sale-6
DTSTART;TZID=Europe/London:20130509T193000
DTEND;TZID=Europe/London:20130509T220000
CATEGORIES:shopping, fair, market, christmas, local
LOCATION:The Step
WEBSITE:http://www.thestep.co.uk
URL:http://www.thestep.co.uk
CONTACT:020 3302 2412
ORGANIZER;CN="Nell Riches":https://bowesandbounds.org/profile/NellRich
 es
ATTACH;FMTTYPE="image/jpeg":http://storage.ning.com/topology/rest/1.0/
 file/get/2287240910?profile=original
ATTENDEE;ROLE=REQ-PARTICIPANT;PARTSTAT=ACCEPTED;RSVP=TRUE;CN="Nell Ric
 hes":https://bowesandbounds.org/profile/NellRiches
END:VEVENT
END:VCALENDAR
