BEGIN:VCALENDAR
PRODID:NingEventWidget-v1
VERSION:2.0
METHOD:PUBLISH
BEGIN:VTIMEZONE
TZID:Europe/London
X-LIC-LOCATION:Europe/London
BEGIN:DAYLIGHT
TZOFFSETFROM:+0000
TZOFFSETTO:+0100
TZNAME:BST
DTSTART:19700329T010000
RRULE:FREQ=YEARLY;BYMONTH=3;BYDAY=-1SU
END:DAYLIGHT
BEGIN:STANDARD
TZOFFSETFROM:+0100
TZOFFSETTO:+0000
TZNAME:GMT
DTSTART:19701025T020000
RRULE:FREQ=YEARLY;BYMONTH=10;BYDAY=-1SU
END:STANDARD
END:VTIMEZONE
BEGIN:VEVENT
UID:6278630:Event:63568
DTSTAMP:20260425T114125Z
SUMMARY:The Wizard of Oz - Talkies Cinema screening
DESCRIPTION:As part of the Palmers Green festival weekend Talkies Comm
 unity Cinema will be screning a Family fun, fancy dress and singalong 
 screening of the Wizard of Oz.\nTickets available now from the Talkies
  website\n\n\nFor more information visit https://bowesandbounds.org/ev
 ents/the-wizard-of-oz-talkies-cinema-screening
DTSTART;TZID=Europe/London:20130831T183000
DTEND;TZID=Europe/London:20130831T210000
CATEGORIES:talkies, cinema
LOCATION:United Reform Church
WEBSITE:http://www.talkies.org.uk/future-events
URL:http://www.talkies.org.uk/future-events
CONTACT:
ORGANIZER;CN="Richard McKeever":https://bowesandbounds.org/profile/3hw
 xkqhdde8gc
ATTACH;FMTTYPE="image/jpeg":http://storage.ning.com/topology/rest/1.0/
 file/get/2287256943?profile=original
ATTENDEE;ROLE=REQ-PARTICIPANT;PARTSTAT=ACCEPTED;RSVP=TRUE;CN="Richard 
 McKeever":https://bowesandbounds.org/profile/3hwxkqhdde8gc
END:VEVENT
END:VCALENDAR
