BEGIN:VCALENDAR
PRODID:NingEventWidget-v1
VERSION:2.0
METHOD:PUBLISH
BEGIN:VTIMEZONE
TZID:Europe/London
X-LIC-LOCATION:Europe/London
BEGIN:DAYLIGHT
TZOFFSETFROM:+0000
TZOFFSETTO:+0100
TZNAME:BST
DTSTART:19700329T010000
RRULE:FREQ=YEARLY;BYMONTH=3;BYDAY=-1SU
END:DAYLIGHT
BEGIN:STANDARD
TZOFFSETFROM:+0100
TZOFFSETTO:+0000
TZNAME:GMT
DTSTART:19701025T020000
RRULE:FREQ=YEARLY;BYMONTH=10;BYDAY=-1SU
END:STANDARD
END:VTIMEZONE
BEGIN:VEVENT
UID:6278630:Event:245371
DTSTAMP:20260420T043315Z
SUMMARY:Things that go bump in the night
DESCRIPTION:Halloween special in Broomfield Park. \nChickenshed Theat
 re present... \nPalmers Scream: things that go bump in the night\nFri
 day 27th & Sat 28th October \nTimed tickets from 5.30 onwards.\nProme
 nade perfomance lasts <45 mins>\nPalmers Greenery Community Cafe open 
 for Halloween- themed treats  afterwards\n \nJoin us for the spookie
 st family event of the year as Chickenshed’s tales from the shed tea
 m present a new specially created site specific performance that answe
 rs the age old question; “What is that that goes bump in the night?
 \n \nSuitable for ages 4 - 10 with their families\n \nTickets: Ad
 ult £10 ;  Children £8 ; Group £ 30 (2Ad + 2 Ch) Limited to 40 per
  time slot.\n\nFor more information visit https://bowesandbounds.org/e
 vents/things-that-go-bump-in-the-night
DTSTART;TZID=Europe/London:20231027T173000
DTEND;TZID=Europe/London:20231028T194500
CATEGORIES:family, halloween, event
LOCATION:Broomfield Park
WEBSITE:https://www.fobp.uk/palmers-scream
URL:https://www.fobp.uk/palmers-scream
CONTACT:
ORGANIZER;CN="David Williamson":https://bowesandbounds.org/profile/Dav
 idWilliamson
ATTACH;FMTTYPE="image/jpeg":https://storage.ning.com/topology/rest/1.0
 /file/get/12245423660?profile=original
ATTENDEE;ROLE=REQ-PARTICIPANT;PARTSTAT=ACCEPTED;RSVP=TRUE;CN="David Wi
 lliamson":https://bowesandbounds.org/profile/DavidWilliamson
END:VEVENT
END:VCALENDAR
