BEGIN:VCALENDAR
PRODID:NingEventWidget-v1
VERSION:2.0
METHOD:PUBLISH
BEGIN:VTIMEZONE
TZID:Europe/London
X-LIC-LOCATION:Europe/London
BEGIN:DAYLIGHT
TZOFFSETFROM:+0000
TZOFFSETTO:+0100
TZNAME:BST
DTSTART:19700329T010000
RRULE:FREQ=YEARLY;BYMONTH=3;BYDAY=-1SU
END:DAYLIGHT
BEGIN:STANDARD
TZOFFSETFROM:+0100
TZOFFSETTO:+0000
TZNAME:GMT
DTSTART:19701025T020000
RRULE:FREQ=YEARLY;BYMONTH=10;BYDAY=-1SU
END:STANDARD
END:VTIMEZONE
BEGIN:VEVENT
UID:6278630:Event:241908
DTSTAMP:20260421T064108Z
SUMMARY:Third Thursday Quiz
DESCRIPTION:A quiz night in a bookshop?\nWhat a brilliant idea!\nCome 
 on your own, or in a team of up to four people and pit your wits again
 st each other in a bid to win a percentage of the pot!\n(To quote the 
 Simpsons \"Zero is a percentage isn't it?\")\nNo, really there will be
  a cash prize!\n\n\nFor more information visit https://bowesandbounds.
 org/events/third-thursday-quiz
DTSTART;TZID=Europe/London:20221020T190000
DTEND;TZID=Europe/London:20221020T210000
CATEGORIES:quiz, night
LOCATION:All Good Bookshop
WEBSITE:https://allgoodbookshop.co.uk/special-events
URL:https://allgoodbookshop.co.uk/special-events
CONTACT:02083410783
ORGANIZER;CN="All Good Bookshop":https://bowesandbounds.org/profile/Al
 lGoodBookshop
ATTACH;FMTTYPE="image/jpeg":https://storage.ning.com/topology/rest/1.0
 /file/get/10841899461?profile=original
ATTENDEE;ROLE=REQ-PARTICIPANT;PARTSTAT=ACCEPTED;RSVP=TRUE;CN="All Good
  Bookshop":https://bowesandbounds.org/profile/AllGoodBookshop
END:VEVENT
END:VCALENDAR
