BEGIN:VCALENDAR
PRODID:NingEventWidget-v1
VERSION:2.0
METHOD:PUBLISH
BEGIN:VTIMEZONE
TZID:Europe/London
X-LIC-LOCATION:Europe/London
BEGIN:DAYLIGHT
TZOFFSETFROM:+0000
TZOFFSETTO:+0100
TZNAME:BST
DTSTART:19700329T010000
RRULE:FREQ=YEARLY;BYMONTH=3;BYDAY=-1SU
END:DAYLIGHT
BEGIN:STANDARD
TZOFFSETFROM:+0100
TZOFFSETTO:+0000
TZNAME:GMT
DTSTART:19701025T020000
RRULE:FREQ=YEARLY;BYMONTH=10;BYDAY=-1SU
END:STANDARD
END:VTIMEZONE
BEGIN:VEVENT
UID:6278630:Event:239885
DTSTAMP:20260422T170509Z
SUMMARY:Three Urban Poets at the All Good Bookshop
DESCRIPTION:This Friday - free event at the All Good Bookshop.\nWelcom
 e to the world of modern urban poetry! Â Anna Robinson, Selina Rodrigu
 es and Ruth Valentine all write about places and scenes we know â€“ Â 
 a housing estate, a call centre, Grenfell Tower â€“ with insight and h
 umour and poetic skill.\nAnna's third collection, Whatsname Street, te
 lls the story of the estate in Waterloo where she still lives, in the 
 voices and encounters of her predecessors.Â \nIn the shadows and whoop
 s of the last party\nshe slipped back indoors and took down the curtai
 ns,\nbrown with war and the filth of outsideÂ \nThe Mother in Law's Ne
 ts Â \nÂ \nFerocious is Selina's first full-length collection. She exp
 lores the world of work and the way we create our lives with and witho
 ut it. Â \nWith a forest of hair a man\nsleeps through this concertina
 \nof noise, a body-length away.Â \nLoose Change Â \nÂ \nRuth's If You 
 Want Thunder centres on a long poem celebrating the imagined lives of 
 the residents of Grenfell Tower. Â \nIn the burning high-rise hive the
 re are alphabets, Â \nArabic Tamil Geâ€™ez, there are apricotsÂ \nA Gr
 enfell Alphabet Â Â \nHear how the themes and styles of the three book
 s both merge and contrast, as poems are woven together into a story of
  contemporary London. Â All three poets are published by Smokestack Bo
 oks, which aims to revive the tradition of radical poetry in the UK. Â
  Â Â \nAdmission free â€“ all welcome. Arrive from 7pm for a 7.30 star
 t\n\n\n\nFor more information visit https://bowesandbounds.org/events/
 three-urban-poets-at-the-all-good-bookshop
DTSTART;TZID=Europe/London:20220513T193000
DTEND;TZID=Europe/London:20220513T210000
CATEGORIES:"poetry reading", "live poetry", "local literary events"
LOCATION:All Good Bookshop, 35 Turnpike Lane N8 0EP
WEBSITE:https://allgoodbookshop.co.uk/special-events
URL:https://allgoodbookshop.co.uk/special-events
CONTACT:
ORGANIZER:Carmel for All Good Bookshop
ATTACH;FMTTYPE="image/jpeg":https://storage.ning.com/topology/rest/1.0
 /file/get/10477494890?profile=original
ATTENDEE;ROLE=REQ-PARTICIPANT;PARTSTAT=ACCEPTED;RSVP=TRUE;CN="c p shor
 tall":https://bowesandbounds.org/profile/3j09t7wiq9lkd
END:VEVENT
END:VCALENDAR
