BEGIN:VCALENDAR
PRODID:NingEventWidget-v1
VERSION:2.0
METHOD:PUBLISH
BEGIN:VTIMEZONE
TZID:Europe/London
X-LIC-LOCATION:Europe/London
BEGIN:DAYLIGHT
TZOFFSETFROM:+0000
TZOFFSETTO:+0100
TZNAME:BST
DTSTART:19700329T010000
RRULE:FREQ=YEARLY;BYMONTH=3;BYDAY=-1SU
END:DAYLIGHT
BEGIN:STANDARD
TZOFFSETFROM:+0100
TZOFFSETTO:+0000
TZNAME:GMT
DTSTART:19701025T020000
RRULE:FREQ=YEARLY;BYMONTH=10;BYDAY=-1SU
END:STANDARD
END:VTIMEZONE
BEGIN:VEVENT
UID:6278630:Event:242395
DTSTAMP:20260419T135135Z
SUMMARY:Tomorrow’s Warriors presents Francisco Garcia de Paredes
DESCRIPTION:We invite you to join us to close the Karamel Jazz season 
 for this year with a bang!\n\nTomorrow’s Warriors presents the next 
 generation of jazz musicians and artists supported through their award
 -winning talent development programme.\nTomorrow’s Warriors presents
  London based guitarist Francisco Garcia de Paredes as he leads his qu
 intet to close out this year’s Karamel Jazz season with a bang!\nFra
 ncisco has performed at venues such as Ronnie Scott's Jazz Club, Pizza
  Express Jazz, The Vortex and been fortunate enough to perform alongsi
 de musicians such as Gareth Lockrane, Rachel Cohen and very recently t
 he National Youth Jazz Orchestra with Bob Mintzer.\nHis music draws in
 fluence from musicians such as Gretchen Parlato, Aaron Parks, Jim Hall
 , Kurt Rosenwinkel amongst many others and tries to blend these influe
 nces to create his own compositional voice\nHe will be playing a set o
 f brand-new compositions (both instrumental and vocal alongside jazz s
 inger Eliana Veinberga) with a band of some of the best young jazz mus
 icians in London.\n\nBand lineup: Francisco Garcia de Paredes - Guita
 r ; Eliana Veinberga - Vocals ;Rūta Sipola - Flute ;Harry Pearce - Do
 uble Bass ;Tom Potter - Drums ;\n\nTomorrow’s Warriors is a pioneeri
 ng talent development organisation, creative producer, learning and tr
 aining provider, charity and consultancy specialising in jazz. Founded
  in 1991 by Queen’s Medal for Music recipient Gary Crosby OBE and Ja
 nine Irons MBE, Tomorrow’s Warriors helps aspiring young artists fro
 m diverse backgrounds discover their magic and achieve creative ambiti
 ons. TW nurtures nascent talent and builds engaged, culturally diverse
  audiences and has been recognised both nationally and internationally
 , receiving over fifty awards, including the 2021 Impact Award from Ja
 zz FM.\nTheir award-winning alumni include: Moses Boyd, Nubya Garcia, 
 Sheila Maurice-Grey, Cassie Kinoshi and Nerija, Femi Koleoso and Ezra 
 Collective, Binker Golding, Shabaka Hutchings and Sons of Kemet, ESKA,
  Denys Baptiste, Soweto Kinch, Ben Burrell, Zara McFarlane, Camilla Ge
 orge, CHERISE, Nathaniel Facey and Empirical, Peter Edwards... the lis
 t goes on and on.\n“Tomorrow’s Warriors have changed the musical l
 andscape of Britain. It’s as simple as that.” Cerys Matthews, Arti
 st & Broadcaster\n\nFind out more at www.tomorrowswarriors.org\n\n\nD
 oors open at 7pm, music starts at 8pm. Please book a ticket in advance
 .\nTickets £5-10\nhttps://www.musicglue.com/karamel\nVENUE: MAAD (fka
  Karamel), 4 Coburg Rd, Wood Green, London N22 6UJ\nThe premises has a
  fresh air ventilation system installed throughout the restaurant and 
 theatre. Menu is available at maad.co\n\nFor more information visit ht
 tps://bowesandbounds.org/events/tomorrow-s-warriors-presents-francisco
 -garcia-de-paredes
DTSTART;TZID=Europe/London:20221215T200000
DTEND;TZID=Europe/London:20221215T220000
CATEGORIES:jazz, music, live
LOCATION:MAAD, 4 Coburg Road, London N22 6UJ
WEBSITE:https://www.musicglue.com/karamel
URL:https://www.musicglue.com/karamel
CONTACT:
ORGANIZER;CN="Collage Artspaces":https://bowesandbounds.org/profile/Co
 llage_Arts
ATTACH;FMTTYPE="image/jpeg":https://storage.ning.com/topology/rest/1.0
 /file/get/10902352700?profile=original
ATTENDEE;ROLE=REQ-PARTICIPANT;PARTSTAT=ACCEPTED;RSVP=TRUE;CN="Collage 
 Artspaces":https://bowesandbounds.org/profile/Collage_Arts
END:VEVENT
END:VCALENDAR
