BEGIN:VCALENDAR
PRODID:NingEventWidget-v1
VERSION:2.0
METHOD:PUBLISH
BEGIN:VTIMEZONE
TZID:Europe/London
X-LIC-LOCATION:Europe/London
BEGIN:DAYLIGHT
TZOFFSETFROM:+0000
TZOFFSETTO:+0100
TZNAME:BST
DTSTART:19700329T010000
RRULE:FREQ=YEARLY;BYMONTH=3;BYDAY=-1SU
END:DAYLIGHT
BEGIN:STANDARD
TZOFFSETFROM:+0100
TZOFFSETTO:+0000
TZNAME:GMT
DTSTART:19701025T020000
RRULE:FREQ=YEARLY;BYMONTH=10;BYDAY=-1SU
END:STANDARD
END:VTIMEZONE
BEGIN:VEVENT
UID:6278630:Event:250877
DTSTAMP:20260419T173755Z
SUMMARY:Tori Freestone Quartet
DESCRIPTION:\nTori Freestone saxophonist, flautist, violinist and comp
 oser, known for her robust tenor sound and melodic invention. The Guar
 dian critic John Fordham described her first album In The Chop House a
 s \"an imposingly original sound\".\nIn 2017 Freestone was shortlisted
  for a Fellowship in Jazz Composition supported by PRS for Music Found
 ation, UK Arts Foundation.\nTori will be joined by Huw Warren - piano,
  Dudley Philips - bass, Corrie Dick – drums.\nKaramel - 4 Coburg Roa
 d, London N22 6UJ. The Karamel vegan kitchen will be serving food unti
 l 9.30pm. Email karamel8775@gmail.com to book a table for groups of 3+
 .\nDoors open 7pm, music starts at 8pm.\n£7.50 Earlybird; £10 Genera
 l admission; £5 Student.\n\n\nFor more information visit https://bowe
 sandbounds.org/events/tori-freestone-quartet
DTSTART;TZID=Europe/London:20250807T190000
DTEND;TZID=Europe/London:20250807T220000
CATEGORIES:jazz, veganvenue, veganfood, livemusic
LOCATION:karamel, 4 Coburg Road, Wood Green, London N22 6UJ
WEBSITE:https://www.musicglue.com/karamel/events/2025-08-07-tori-frees
 tone-quartet-karamel
URL:https://www.musicglue.com/karamel/events/2025-08-07-tori-freestone
 -quartet-karamel
CONTACT:
ORGANIZER;CN="Collage Artspaces":https://bowesandbounds.org/profile/Co
 llage_Arts
ATTACH;FMTTYPE="image/jpeg":https://storage.ning.com/topology/rest/1.0
 /file/get/13641053498?profile=original
ATTENDEE;ROLE=REQ-PARTICIPANT;PARTSTAT=ACCEPTED;RSVP=TRUE;CN="Collage 
 Artspaces":https://bowesandbounds.org/profile/Collage_Arts
END:VEVENT
END:VCALENDAR
