BEGIN:VCALENDAR
PRODID:NingEventWidget-v1
VERSION:2.0
METHOD:PUBLISH
BEGIN:VTIMEZONE
TZID:Europe/London
X-LIC-LOCATION:Europe/London
BEGIN:DAYLIGHT
TZOFFSETFROM:+0000
TZOFFSETTO:+0100
TZNAME:BST
DTSTART:19700329T010000
RRULE:FREQ=YEARLY;BYMONTH=3;BYDAY=-1SU
END:DAYLIGHT
BEGIN:STANDARD
TZOFFSETFROM:+0100
TZOFFSETTO:+0000
TZNAME:GMT
DTSTART:19701025T020000
RRULE:FREQ=YEARLY;BYMONTH=10;BYDAY=-1SU
END:STANDARD
END:VTIMEZONE
BEGIN:VEVENT
UID:6278630:Event:78711
DTSTAMP:20260422T104622Z
SUMMARY:Tots, Toys & Tommy's Tunes: Toddler Storytime & Play (FREE)
DESCRIPTION:For children Under 5 years old.   This summer, bring your 
 tiny troopers to Enfield Museum for traditional stories and rhymes, as
  well as a chance to play with toys old and new.   15 children and adu
 lt carers at each session, first come first served basis.   This is pa
 rt of a programme of children's events for Enfield Museum's exhibition
  'Enfield at War: 1914-18'. For more details please see enfield.gov.uk
 /museum\n\nFor more information visit https://bowesandbounds.org/event
 s/tots-toys-tommy-s-tunes-toddler-storytime-play-free-2
DTSTART;TZID=Europe/London:20140822T100000
DTEND;TZID=Europe/London:20140822T110000
CATEGORIES:song, story, play, toddlers, children
LOCATION:Enfield Museum
WEBSITE:http://enfield.gov.uk/museum
URL:http://enfield.gov.uk/museum
CONTACT:02088076680
ORGANIZER;CN="Enfield Museum":https://bowesandbounds.org/profile/Enfie
 ldMuseumService
ATTACH;FMTTYPE="image/jpeg":http://storage.ning.com/topology/rest/1.0/
 file/get/2287265032?profile=original
ATTENDEE;ROLE=REQ-PARTICIPANT;PARTSTAT=ACCEPTED;RSVP=TRUE;CN="Enfield 
 Museum":https://bowesandbounds.org/profile/EnfieldMuseumService
END:VEVENT
END:VCALENDAR
