BEGIN:VCALENDAR
PRODID:NingEventWidget-v1
VERSION:2.0
METHOD:PUBLISH
BEGIN:VTIMEZONE
TZID:Europe/London
X-LIC-LOCATION:Europe/London
BEGIN:DAYLIGHT
TZOFFSETFROM:+0000
TZOFFSETTO:+0100
TZNAME:BST
DTSTART:19700329T010000
RRULE:FREQ=YEARLY;BYMONTH=3;BYDAY=-1SU
END:DAYLIGHT
BEGIN:STANDARD
TZOFFSETFROM:+0100
TZOFFSETTO:+0000
TZNAME:GMT
DTSTART:19701025T020000
RRULE:FREQ=YEARLY;BYMONTH=10;BYDAY=-1SU
END:STANDARD
END:VTIMEZONE
BEGIN:VEVENT
UID:6278630:Event:241053
DTSTAMP:20260421T030215Z
SUMMARY:TRAVIS ELBOROUGH: A SENSE OF PLACE - Writing Masterclass
DESCRIPTION:20 November, 11am-1pm; Zoom delivery, cost £25\nAn intera
 ctive non-fiction workshop that will help you to get creative when wri
 ting about place, whether you have a novel, memoir, biography, travel 
 or nature writing project in mind. More details coming soon!\nOne of a
  series of Sunday Masterclasses from Writing Room this Autumn.\ncontac
 t@writingroom.org.uk\n\nFor more information visit https://bowesandbou
 nds.org/events/travis-elborough-a-sense-of-place-writing-masterclass
DTSTART;TZID=Europe/London:20221120T110000
DTEND;TZID=Europe/London:20221120T130000
CATEGORIES:"place in writing", "a sense of place", "writing masterclas
 s"
LOCATION:Zoom Online from Writing Room
WEBSITE:https://www.writingroom.org.uk/coursesandmasterclasses/sunday-
 masterclasses
URL:https://www.writingroom.org.uk/coursesandmasterclasses/sunday-mast
 erclasses
CONTACT:
ORGANIZER:Carmel for Writing Room
ATTACH;FMTTYPE="image/jpeg":https://storage.ning.com/topology/rest/1.0
 /file/get/10785261080?profile=original
ATTENDEE;ROLE=REQ-PARTICIPANT;PARTSTAT=ACCEPTED;RSVP=TRUE;CN="c p shor
 tall":https://bowesandbounds.org/profile/3j09t7wiq9lkd
END:VEVENT
END:VCALENDAR
