BEGIN:VCALENDAR
PRODID:NingEventWidget-v1
VERSION:2.0
METHOD:PUBLISH
BEGIN:VTIMEZONE
TZID:Europe/London
X-LIC-LOCATION:Europe/London
BEGIN:DAYLIGHT
TZOFFSETFROM:+0000
TZOFFSETTO:+0100
TZNAME:BST
DTSTART:19700329T010000
RRULE:FREQ=YEARLY;BYMONTH=3;BYDAY=-1SU
END:DAYLIGHT
BEGIN:STANDARD
TZOFFSETFROM:+0100
TZOFFSETTO:+0000
TZNAME:GMT
DTSTART:19701025T020000
RRULE:FREQ=YEARLY;BYMONTH=10;BYDAY=-1SU
END:STANDARD
END:VTIMEZONE
BEGIN:VEVENT
UID:6278630:Event:77379
DTSTAMP:20260425T004304Z
SUMMARY:Tsoti - Talkies Community Cinema
DESCRIPTION:Dir. Gavin Hood (2005) Cert 15\nOn the edges of Johannesbu
 rg, Tsotsi’s life has no meaning beyond survival. One night in despe
 ration, Tsotsi steals a woman’s car, only to discover a crying infan
 t in the backseat. In a moment, his life takes a sharp turn and leads 
 him down an unexpected path to redemption, giving him hope for a futur
 e he never could have imagined. Tsotsi is a portrait of the choices th
 at are made in life and how compassion can endure in the human heart. 
 .\nBOOK TICKETS ONLINE Phone reservations 020 8807 6680\n\n\n\n\n\n\nF
 or more information visit https://bowesandbounds.org/events/tsoti-talk
 ies-community-cinema
DTSTART;TZID=Europe/London:20140619T193000
DTEND;TZID=Europe/London:20140619T220000
CATEGORIES:cinema, talkies
LOCATION:Dugdale Centre
WEBSITE:https://maps.google.co.uk/maps?q=Dugdale+Centre&hl=en&ll=51.65
 8607,-0.080509&spn=0.029444,0.077162&cid=330561093370934429&gl=GB&t=m&
 z=14&iwloc=A
URL:https://maps.google.co.uk/maps?q=Dugdale+Centre&hl=en&ll=51.658607
 ,-0.080509&spn=0.029444,0.077162&cid=330561093370934429&gl=GB&t=m&z=14
 &iwloc=A
CONTACT:
ORGANIZER:Administrator
ATTACH;FMTTYPE="image/jpeg":http://storage.ning.com/topology/rest/1.0/
 file/get/2287265941?profile=original
ATTENDEE;ROLE=REQ-PARTICIPANT;PARTSTAT=ACCEPTED;RSVP=TRUE;CN="Richard 
 McKeever":https://bowesandbounds.org/profile/3hwxkqhdde8gc
END:VEVENT
END:VCALENDAR
