BEGIN:VCALENDAR
PRODID:NingEventWidget-v1
VERSION:2.0
METHOD:PUBLISH
BEGIN:VTIMEZONE
TZID:Europe/London
X-LIC-LOCATION:Europe/London
BEGIN:DAYLIGHT
TZOFFSETFROM:+0000
TZOFFSETTO:+0100
TZNAME:BST
DTSTART:19700329T010000
RRULE:FREQ=YEARLY;BYMONTH=3;BYDAY=-1SU
END:DAYLIGHT
BEGIN:STANDARD
TZOFFSETFROM:+0100
TZOFFSETTO:+0000
TZNAME:GMT
DTSTART:19701025T020000
RRULE:FREQ=YEARLY;BYMONTH=10;BYDAY=-1SU
END:STANDARD
END:VTIMEZONE
BEGIN:VEVENT
UID:6278630:Event:40684
DTSTAMP:20260421T141853Z
SUMMARY:Tweflth Night Fever: St Monicas Players
DESCRIPTION:St Monicas Players revive one of their greatest performanc
 es to date, Twelfth Night Fever, at the Millfield Theatre this June.\n
 It's a theatrical mashup of Shakespeare's Twelfth Night, a tale of mis
 taken identity, disguises and unrequited love, remixed with classic 70
 's tunes like 'Staying Alive', 'Night Fever' and 'Dancing Queen'.  The
 re are some fantastic performances from a West-End standard cast, with
  songs that will have you dancing in the aisles and more flares and af
 ros than you can shake your rhythm stick at; you would have to be a fo
 ol to miss out on this laugh-a-minute show.  The show runs at the Mill
 field Arts Centre from Wednesday 20th until Saturday 23rd June, starti
 ng at 7.45pm. Book your tickets now to avoid disappointment as this sh
 ow WILL sell out. There will be a signed performance on the Thursday e
 vening.  Call 0208 807 6680 to buy tickets or book online through the 
 Millfield Theatre Online Box Office.  Tickets £14 / Concessions £11.
  +£1 if booking online.  The Millfield Arts Centre Silver Street Edmo
 nton London N18 1PJ\n\n\nFor more information visit https://bowesandbo
 unds.org/events/tweflth-night-fever-st-monicas-players
DTSTART;TZID=Europe/London:20120620T194500
DTEND;TZID=Europe/London:20120623T194500
CATEGORIES:theatre
LOCATION:Millfield Theatre
WEBSITE:
URL:
CONTACT:0208 807 6680
ORGANIZER;CN="Richard McKeever":https://bowesandbounds.org/profile/3hw
 xkqhdde8gc
ATTACH;FMTTYPE="image/jpeg":http://storage.ning.com/topology/rest/1.0/
 file/get/2287236068?profile=original
ATTENDEE;ROLE=REQ-PARTICIPANT;PARTSTAT=ACCEPTED;RSVP=TRUE;CN="Richard 
 McKeever":https://bowesandbounds.org/profile/3hwxkqhdde8gc
END:VEVENT
END:VCALENDAR
