BEGIN:VCALENDAR
PRODID:NingEventWidget-v1
VERSION:2.0
METHOD:PUBLISH
BEGIN:VTIMEZONE
TZID:Europe/London
X-LIC-LOCATION:Europe/London
BEGIN:DAYLIGHT
TZOFFSETFROM:+0000
TZOFFSETTO:+0100
TZNAME:BST
DTSTART:19700329T010000
RRULE:FREQ=YEARLY;BYMONTH=3;BYDAY=-1SU
END:DAYLIGHT
BEGIN:STANDARD
TZOFFSETFROM:+0100
TZOFFSETTO:+0000
TZNAME:GMT
DTSTART:19701025T020000
RRULE:FREQ=YEARLY;BYMONTH=10;BYDAY=-1SU
END:STANDARD
END:VTIMEZONE
BEGIN:VEVENT
UID:6278630:Event:40052
DTSTAMP:20260424T045130Z
SUMMARY:Upcycling: Crocheting with plastic bags workshop
DESCRIPTION:Crocheting with plastic bags 12:00-1:30pm @ Wood Green Lib
 rary, New Gallery Crochet needles to the ready as we learn how to tran
 sform carrier bags into upcycled items such as purses, baskets and mor
 e. Bring a crochet needle for use.\nThis workshop is part of the Found
  Art exhibition and a regular series of Upcycling workshops presented 
 by the Haringey Timebank. For more info see http://www.haringeytimeban
 k.org.uk/green-bank/found-art\n\nFor more information visit https://bo
 wesandbounds.org/events/upcycling-crocheting-with-plastic-bags-worksho
 p
DTSTART;TZID=Europe/London:20120516T120000
DTEND;TZID=Europe/London:20120516T133000
CATEGORIES:upcycling, craft, crochet
LOCATION:Wood Green Library, New Gallery
WEBSITE:http://www.haringeytimebank.org.uk/green-bank/found-art
URL:http://www.haringeytimebank.org.uk/green-bank/found-art
CONTACT:07726580123
ORGANIZER:Haringey Timebank
ATTACH;FMTTYPE="image/jpeg":http://storage.ning.com/topology/rest/1.0/
 file/get/2287232774?profile=original
ATTENDEE;ROLE=REQ-PARTICIPANT;PARTSTAT=ACCEPTED;RSVP=TRUE;CN="Vickie S
 chellert":https://bowesandbounds.org/profile/VickieSchellert
END:VEVENT
END:VCALENDAR
