BEGIN:VCALENDAR
PRODID:NingEventWidget-v1
VERSION:2.0
METHOD:PUBLISH
BEGIN:VTIMEZONE
TZID:Europe/London
X-LIC-LOCATION:Europe/London
BEGIN:DAYLIGHT
TZOFFSETFROM:+0000
TZOFFSETTO:+0100
TZNAME:BST
DTSTART:19700329T010000
RRULE:FREQ=YEARLY;BYMONTH=3;BYDAY=-1SU
END:DAYLIGHT
BEGIN:STANDARD
TZOFFSETFROM:+0100
TZOFFSETTO:+0000
TZNAME:GMT
DTSTART:19701025T020000
RRULE:FREQ=YEARLY;BYMONTH=10;BYDAY=-1SU
END:STANDARD
END:VTIMEZONE
BEGIN:VEVENT
UID:6278630:Event:41932
DTSTAMP:20260424T085018Z
SUMMARY:Upcycling Workshop
DESCRIPTION:We’re very excited to have Anna Johnson of A. Alicia Acc
 essories back at The Step for some more crafting fun!\nFor those of yo
 u who missed our Mother’s Day workshop, here’s your chance to crea
 te a gorgeous up-cycled object for your home. The workshop is part of 
 the AP&Beyond Festival and you can just drop-in between 3-5pm on Sunda
 y 24th June to take part.\nAnna will guide you through up-cycling your
  own glass bottle with vintage fabric and porcelain pens. The workshop
  is only £5 and all materials are included. You don’t need any craf
 ting experience or if you have that works too! It’s a great activity
  to do together, by yourself or with children over six years old.\nSun
 day 24th June, 3-5pm £5 per person All materials included\nYou can pr
 e-book the workshop by calling The Step on 020 3302 2412 or by emailin
 g info@thestep.co.uk with your contact details and we’ll get in touc
 h.\n\nFor more information visit https://bowesandbounds.org/events/upc
 ycling-workshop
DTSTART;TZID=Europe/London:20120624T150000
DTEND;TZID=Europe/London:20120624T170000
CATEGORIES:workshop, course, craft, social
LOCATION:The Step
WEBSITE:http://www.thestep.co.uk/
URL:http://www.thestep.co.uk/
CONTACT:020 3302 2412
ORGANIZER;CN="Nell Riches":https://bowesandbounds.org/profile/NellRich
 es
ATTACH;FMTTYPE="image/jpeg":http://storage.ning.com/topology/rest/1.0/
 file/get/2287235527?profile=original
ATTENDEE;ROLE=REQ-PARTICIPANT;PARTSTAT=ACCEPTED;RSVP=TRUE;CN="Nell Ric
 hes":https://bowesandbounds.org/profile/NellRiches
END:VEVENT
END:VCALENDAR
