BEGIN:VCALENDAR
PRODID:NingEventWidget-v1
VERSION:2.0
METHOD:PUBLISH
BEGIN:VTIMEZONE
TZID:Europe/London
X-LIC-LOCATION:Europe/London
BEGIN:DAYLIGHT
TZOFFSETFROM:+0000
TZOFFSETTO:+0100
TZNAME:BST
DTSTART:19700329T010000
RRULE:FREQ=YEARLY;BYMONTH=3;BYDAY=-1SU
END:DAYLIGHT
BEGIN:STANDARD
TZOFFSETFROM:+0100
TZOFFSETTO:+0000
TZNAME:GMT
DTSTART:19701025T020000
RRULE:FREQ=YEARLY;BYMONTH=10;BYDAY=-1SU
END:STANDARD
END:VTIMEZONE
BEGIN:VEVENT
UID:6278630:Event:81088
DTSTAMP:20260422T091707Z
SUMMARY:Victorian Veg
DESCRIPTION:Drop in to our Bruce Castle Summer Holiday Activities. Exp
 lore a range of fruit and vegetables and use mixed media to create a p
 icture. In addition to the art and craft activities there will also be
  hands-on gardening activities! All activities free and aimed at child
 ren aged 5+.\nUnder 8s must be with an adult.\nDrop in 2pm-4pm.\nKindl
 y supported by Awards for All, the Friends of Bruce Castle and Groundw
 ork.\n\nFor more information visit https://bowesandbounds.org/events/v
 ictorian-veg
DTSTART;TZID=Europe/London:20140730T140000
DTEND;TZID=Europe/London:20140730T160000
CATEGORIES:summer, holiday, activities
LOCATION:Bruce Castle Museum
WEBSITE:http://www.haringey.gov.uk/brucecastlemusuem
URL:http://www.haringey.gov.uk/brucecastlemusuem
CONTACT:020 8808n 8772
ORGANIZER;CN="Mark Wells":https://bowesandbounds.org/profile/MarkWells
ATTACH;FMTTYPE="image/jpeg":http://storage.ning.com/topology/rest/1.0/
 file/get/2287266629?profile=original
ATTENDEE;ROLE=REQ-PARTICIPANT;PARTSTAT=ACCEPTED;RSVP=TRUE;CN="Mark Wel
 ls":https://bowesandbounds.org/profile/MarkWells
END:VEVENT
END:VCALENDAR
