BEGIN:VCALENDAR
PRODID:NingEventWidget-v1
VERSION:2.0
METHOD:PUBLISH
BEGIN:VTIMEZONE
TZID:Europe/London
X-LIC-LOCATION:Europe/London
BEGIN:DAYLIGHT
TZOFFSETFROM:+0000
TZOFFSETTO:+0100
TZNAME:BST
DTSTART:19700329T010000
RRULE:FREQ=YEARLY;BYMONTH=3;BYDAY=-1SU
END:DAYLIGHT
BEGIN:STANDARD
TZOFFSETFROM:+0100
TZOFFSETTO:+0000
TZNAME:GMT
DTSTART:19701025T020000
RRULE:FREQ=YEARLY;BYMONTH=10;BYDAY=-1SU
END:STANDARD
END:VTIMEZONE
BEGIN:VEVENT
UID:6278630:Event:140250
DTSTAMP:20260419T190444Z
SUMMARY:Vintage &amp; Flea Market at Shaftesbury Hall
DESCRIPTION:vintage, junk, antiques, records, toys, clothing, jeweller
 y, and loads more! \nSeasoned sellers and local enthusiasts. Come alo
 ng, free entry!\n\nFor more information visit https://bowesandbounds.o
 rg/events/vintage-amp-flea-market-at-shaftesbury-hall-1
DTSTART;TZID=Europe/London:20200215T120000
DTEND;TZID=Europe/London:20200215T160000
CATEGORIES:sale
LOCATION:shaftesbury hall
WEBSITE:http://www.myddletonroadmarket.co.uk
URL:http://www.myddletonroadmarket.co.uk
CONTACT:
ORGANIZER;CN="Lucy Whitehead":https://bowesandbounds.org/profile/LucyW
 hitehead
ATTACH;FMTTYPE="image/jpeg":
ATTENDEE;ROLE=REQ-PARTICIPANT;PARTSTAT=ACCEPTED;RSVP=TRUE;CN="Lucy Whi
 tehead":https://bowesandbounds.org/profile/LucyWhitehead
END:VEVENT
END:VCALENDAR
