BEGIN:VCALENDAR
PRODID:NingEventWidget-v1
VERSION:2.0
METHOD:PUBLISH
BEGIN:VTIMEZONE
TZID:Europe/London
X-LIC-LOCATION:Europe/London
BEGIN:DAYLIGHT
TZOFFSETFROM:+0000
TZOFFSETTO:+0100
TZNAME:BST
DTSTART:19700329T010000
RRULE:FREQ=YEARLY;BYMONTH=3;BYDAY=-1SU
END:DAYLIGHT
BEGIN:STANDARD
TZOFFSETFROM:+0100
TZOFFSETTO:+0000
TZNAME:GMT
DTSTART:19701025T020000
RRULE:FREQ=YEARLY;BYMONTH=10;BYDAY=-1SU
END:STANDARD
END:VTIMEZONE
BEGIN:VEVENT
UID:6278630:Event:135514
DTSTAMP:20260423T174147Z
SUMMARY:Vintage and Flea Market at Shaftesbury Hall
DESCRIPTION:Vintage and Flea market for local sellers. \nWe'll have b
 ric a brac, toys, rugs, jewellery and clothing. Plus some surprises! 
 \n\n£1 entry, kids free, refreshments available\n\n\nFor more informa
 tion visit https://bowesandbounds.org/events/vintage-amp-flea-market-a
 t-shaftesbury-hall
DTSTART;TZID=Europe/London:20190323T120000
DTEND;TZID=Europe/London:20190323T160000
CATEGORIES:sale
LOCATION:Shaftesbury Hall
WEBSITE:
URL:
CONTACT:
ORGANIZER;CN="Lucy Whitehead":https://bowesandbounds.org/profile/LucyW
 hitehead
ATTACH;FMTTYPE="image/jpeg":https://storage.ning.com/topology/rest/1.0
 /file/get/1433587210?profile=original
ATTENDEE;ROLE=REQ-PARTICIPANT;PARTSTAT=ACCEPTED;RSVP=TRUE;CN="Emma Kil
 lick":https://bowesandbounds.org/profile/EmmaKillick
ATTENDEE;ROLE=REQ-PARTICIPANT;PARTSTAT=ACCEPTED;RSVP=TRUE;CN="Lucy Whi
 tehead":https://bowesandbounds.org/profile/LucyWhitehead
END:VEVENT
END:VCALENDAR
