BEGIN:VCALENDAR
PRODID:NingEventWidget-v1
VERSION:2.0
METHOD:PUBLISH
BEGIN:VTIMEZONE
TZID:Europe/London
X-LIC-LOCATION:Europe/London
BEGIN:DAYLIGHT
TZOFFSETFROM:+0000
TZOFFSETTO:+0100
TZNAME:BST
DTSTART:19700329T010000
RRULE:FREQ=YEARLY;BYMONTH=3;BYDAY=-1SU
END:DAYLIGHT
BEGIN:STANDARD
TZOFFSETFROM:+0100
TZOFFSETTO:+0000
TZNAME:GMT
DTSTART:19701025T020000
RRULE:FREQ=YEARLY;BYMONTH=10;BYDAY=-1SU
END:STANDARD
END:VTIMEZONE
BEGIN:VEVENT
UID:6278630:Event:235635
DTSTAMP:20260422T132647Z
SUMMARY:Vintage & Flea Market
DESCRIPTION:Vintage! Homewares! Bric a Brac! Junk! Clothing! Kids Item
 s!Come along and grab a unique pre-loved bargain. Sellers tables £35 
 each.\r\nContact Lucy@myddletonroadmarket.co.uk to book in.\r\n£1 ent
 ry\n\nFor more information visit https://bowesandbounds.org/events/vin
 tage-flea-market
DTSTART;TZID=Europe/London:20210619T120000
DTEND;TZID=Europe/London:20210619T163000
CATEGORIES:vintage, "&amp", flea, market
LOCATION:Shaftesbury Hall
WEBSITE:https://www.myddletonroadmarket.co.uk/markets/2019/3/23/vintag
 e-amp-flea-market-at-shaftesbury-hall
URL:https://www.myddletonroadmarket.co.uk/markets/2019/3/23/vintage-am
 p-flea-market-at-shaftesbury-hall
CONTACT:
ORGANIZER;CN="Daniel Cowan":https://bowesandbounds.org/profile/DanielC
 owan
ATTACH;FMTTYPE="image/jpeg":
ATTENDEE;ROLE=REQ-PARTICIPANT;PARTSTAT=ACCEPTED;RSVP=TRUE;CN="Daniel C
 owan":https://bowesandbounds.org/profile/DanielCowan
END:VEVENT
END:VCALENDAR
