BEGIN:VCALENDAR
PRODID:NingEventWidget-v1
VERSION:2.0
METHOD:PUBLISH
BEGIN:VTIMEZONE
TZID:Europe/London
X-LIC-LOCATION:Europe/London
BEGIN:DAYLIGHT
TZOFFSETFROM:+0000
TZOFFSETTO:+0100
TZNAME:BST
DTSTART:19700329T010000
RRULE:FREQ=YEARLY;BYMONTH=3;BYDAY=-1SU
END:DAYLIGHT
BEGIN:STANDARD
TZOFFSETFROM:+0100
TZOFFSETTO:+0000
TZNAME:GMT
DTSTART:19701025T020000
RRULE:FREQ=YEARLY;BYMONTH=10;BYDAY=-1SU
END:STANDARD
END:VTIMEZONE
BEGIN:VEVENT
UID:6278630:Event:91665
DTSTAMP:20260422T124235Z
SUMMARY:Walk In 2 the Wild
DESCRIPTION:Leave the urban jungle behind and join us on this second w
 alk that takes us into the wild and further explores what nature can p
 rovide us with in a survival situation, including some foraging tips, 
 basic items to keep in your rucksack and finding and preparing water. 
 The food, shelter and resources are there, providing you know where to
  look!\nMeet 10:00am at the main car park near the Cockfosters Road en
 trance. (approx. 12:00 noon finish).  No need to book.  Distance: No
  more than 3 miles.\n\nFor more information visit https://bowesandboun
 ds.org/events/walk-in-2-the-wild
DTSTART;TZID=Europe/London:20150906T100000
DTEND;TZID=Europe/London:20150906T120000
CATEGORIES:free, guided, walk
LOCATION:Trent Park
WEBSITE:http://www.enfield.gov.uk/downloads/file/11164/trent_park_guid
 ed_walks_2015
URL:http://www.enfield.gov.uk/downloads/file/11164/trent_park_guided_w
 alks_2015
CONTACT:
ORGANIZER;CN="Suzanne Linsey":https://bowesandbounds.org/profile/Suzan
 neLinsey
ATTACH;FMTTYPE="image/jpeg":http://storage.ning.com/topology/rest/1.0/
 file/get/2287283288?profile=original
ATTENDEE;ROLE=REQ-PARTICIPANT;PARTSTAT=ACCEPTED;RSVP=TRUE;CN="Suzanne 
 Linsey":https://bowesandbounds.org/profile/SuzanneLinsey
END:VEVENT
END:VCALENDAR
