BEGIN:VCALENDAR
PRODID:NingEventWidget-v1
VERSION:2.0
METHOD:PUBLISH
BEGIN:VTIMEZONE
TZID:Europe/London
X-LIC-LOCATION:Europe/London
BEGIN:DAYLIGHT
TZOFFSETFROM:+0000
TZOFFSETTO:+0100
TZNAME:BST
DTSTART:19700329T010000
RRULE:FREQ=YEARLY;BYMONTH=3;BYDAY=-1SU
END:DAYLIGHT
BEGIN:STANDARD
TZOFFSETFROM:+0100
TZOFFSETTO:+0000
TZNAME:GMT
DTSTART:19701025T020000
RRULE:FREQ=YEARLY;BYMONTH=10;BYDAY=-1SU
END:STANDARD
END:VTIMEZONE
BEGIN:VEVENT
UID:6278630:Event:71223
DTSTAMP:20260422T085935Z
SUMMARY:Walking Group walk
DESCRIPTION:\"The real Eastenders (and a lot of hipsters)\"\n \nMeet 
 Bounds Green station at 11:00. Travel to Liverpool Street via Kings Cr
 oss.\nWe will walk around the Spitalfields area, and take a look in Ch
 rist Church, a masterpiece designed by Nicholas Hawksmoor, before a br
 eak for lunch in Spitalfields Market.\nAfter lunch we will continue vi
 a Brick Lane, the former Trumans's Brewery, more curry houses than you
  can shake a stick at, the Whitechapel Bell Foundry and a doss house w
 here Stalin once stayed! You can depart here via Whitechapel station o
 r continue a bit further to Shadwell, visiting en-route Watney market.
  Return from Shadwell by DLR/Northern Line (no Overground today).\nAbo
 ut 3 miles. Finish before darkness. More detailed walk description he
 re\n\nFor more information visit https://bowesandbounds.org/events/wal
 king-group-walk-12
DTSTART;TZID=Europe/London:20140126T110000
DTEND;TZID=Europe/London:20140126T160000
CATEGORIES:walk
LOCATION:Spitalfields
WEBSITE:
URL:
CONTACT:
ORGANIZER;CN="Alison M":https://bowesandbounds.org/profile/AlisonM
ATTACH;FMTTYPE="image/jpeg":http://storage.ning.com/topology/rest/1.0/
 file/get/2287259875?profile=original
ATTENDEE;ROLE=REQ-PARTICIPANT;PARTSTAT=ACCEPTED;RSVP=TRUE;CN="Alison M
 ":https://bowesandbounds.org/profile/AlisonM
END:VEVENT
END:VCALENDAR
