BEGIN:VCALENDAR
PRODID:NingEventWidget-v1
VERSION:2.0
METHOD:PUBLISH
BEGIN:VTIMEZONE
TZID:Europe/London
X-LIC-LOCATION:Europe/London
BEGIN:DAYLIGHT
TZOFFSETFROM:+0000
TZOFFSETTO:+0100
TZNAME:BST
DTSTART:19700329T010000
RRULE:FREQ=YEARLY;BYMONTH=3;BYDAY=-1SU
END:DAYLIGHT
BEGIN:STANDARD
TZOFFSETFROM:+0100
TZOFFSETTO:+0000
TZNAME:GMT
DTSTART:19701025T020000
RRULE:FREQ=YEARLY;BYMONTH=10;BYDAY=-1SU
END:STANDARD
END:VTIMEZONE
BEGIN:VEVENT
UID:6278630:Event:72685
DTSTAMP:20260425T133401Z
SUMMARY:Walking group walk
DESCRIPTION:6 mile linear walk from Watton-at-Stone Station to Hertfo
 rd North Station.\nA scenic walk in Hertfordshire passing through a co
 untry estate and alongside the River Beane.\nPlease meet at Bowes Park
  Station in time to be ticketed and ready to catch the 13h42 train (ar
 rives Watton-at-Stone 14h14).\nYou will need to buy a First Capital Co
 nnect ticket as Oystercards are not valid beyond Cuffley Station.\nFur
 ther information here\n\nFor more information visit https://bowesandbo
 unds.org/events/walking-group-walk-13
DTSTART;TZID=Europe/London:20140222T133000
DTEND;TZID=Europe/London:20140222T180000
CATEGORIES:walk
LOCATION:Watton-at-Stone
WEBSITE:
URL:
CONTACT:
ORGANIZER;CN="Alison M":https://bowesandbounds.org/profile/AlisonM
ATTACH;FMTTYPE="image/jpeg":http://storage.ning.com/topology/rest/1.0/
 file/get/2287259875?profile=original
ATTENDEE;ROLE=REQ-PARTICIPANT;PARTSTAT=ACCEPTED;RSVP=TRUE;CN="Trish Dy
 son":https://bowesandbounds.org/profile/TrishDyson
ATTENDEE;ROLE=REQ-PARTICIPANT;PARTSTAT=ACCEPTED;RSVP=TRUE;CN="Alison M
 ":https://bowesandbounds.org/profile/AlisonM
END:VEVENT
END:VCALENDAR
