BEGIN:VCALENDAR
PRODID:NingEventWidget-v1
VERSION:2.0
METHOD:PUBLISH
BEGIN:VTIMEZONE
TZID:Europe/London
X-LIC-LOCATION:Europe/London
BEGIN:DAYLIGHT
TZOFFSETFROM:+0000
TZOFFSETTO:+0100
TZNAME:BST
DTSTART:19700329T010000
RRULE:FREQ=YEARLY;BYMONTH=3;BYDAY=-1SU
END:DAYLIGHT
BEGIN:STANDARD
TZOFFSETFROM:+0100
TZOFFSETTO:+0000
TZNAME:GMT
DTSTART:19701025T020000
RRULE:FREQ=YEARLY;BYMONTH=10;BYDAY=-1SU
END:STANDARD
END:VTIMEZONE
BEGIN:VEVENT
UID:6278630:Event:62913
DTSTAMP:20260421T033227Z
SUMMARY:Walking group walk
DESCRIPTION:Mill Hill to Brent Cross and possibly on to Finchley\nAsse
 mble at Bounds Green Station at 10.30, with a view to catching bus 221
  at 10.40 to Mill Hill East Station. From there we will walk along the
  old railway line (that once went to Edgware). Then turn left (southwa
 rds) past Allianz Park (formerly Copthall Stadium), the home of Sarace
 ns RFC. Then across the Great North Way (by footbridge) into Sunny Hil
 l Park (quite a hill upwards) to Hendon Church End. Here we can stop f
 or refreshments if desired (Irish pub or bagel bakery). Then along a f
 ootpath into Hendon Park. From there we can either go to the Brent Cro
 ss Shopping Centre and home by bus 102 (via a very roundabout route) o
 r by bus 232 to Arnos Grove or Wood Green, or continue along the River
  Brent and Mutton Brook to Henleys Corner, then bus 102 or 232 home.\n
 \n\nFor more information visit https://bowesandbounds.org/events/walki
 ng-group-walk-7
DTSTART;TZID=Europe/London:20130728T103000
DTEND;TZID=Europe/London:20130728T160000
CATEGORIES:walk
LOCATION:Mill Hill
WEBSITE:
URL:
CONTACT:
ORGANIZER;CN="Alison M":https://bowesandbounds.org/profile/AlisonM
ATTACH;FMTTYPE="image/jpeg":
ATTENDEE;ROLE=REQ-PARTICIPANT;PARTSTAT=ACCEPTED;RSVP=TRUE;CN="Alison M
 ":https://bowesandbounds.org/profile/AlisonM
END:VEVENT
END:VCALENDAR
