BEGIN:VCALENDAR
PRODID:NingEventWidget-v1
VERSION:2.0
METHOD:PUBLISH
BEGIN:VTIMEZONE
TZID:Europe/London
X-LIC-LOCATION:Europe/London
BEGIN:DAYLIGHT
TZOFFSETFROM:+0000
TZOFFSETTO:+0100
TZNAME:BST
DTSTART:19700329T010000
RRULE:FREQ=YEARLY;BYMONTH=3;BYDAY=-1SU
END:DAYLIGHT
BEGIN:STANDARD
TZOFFSETFROM:+0100
TZOFFSETTO:+0000
TZNAME:GMT
DTSTART:19701025T020000
RRULE:FREQ=YEARLY;BYMONTH=10;BYDAY=-1SU
END:STANDARD
END:VTIMEZONE
BEGIN:VEVENT
UID:6278630:Event:64604
DTSTAMP:20260425T234016Z
SUMMARY:Warwick Road traffic management - Community Meeting
DESCRIPTION:Bowes Ward Councillors have called a meeting to share pote
 ntial options for the re-shaping of Warwick Road, to alleviate traffic
  congestion.\nCouncillors are  inviting anyone with a direct involvem
 ent in Warwick Road to a meeting to be held Monday 16 September at Bow
 es Primary School to determine which traffic management scheme should 
 be implemented.\nYou can read further details about the proposals here
 \n\nFor more information visit https://bowesandbounds.org/events/warwi
 ck-road-traffic-management-community-meeting
DTSTART;TZID=Europe/London:20130916T194500
DTEND;TZID=Europe/London:20130916T213000
CATEGORIES:public, meeting
LOCATION:Bowes School
WEBSITE:https://maps.google.co.uk/maps?ie=utf-8&gl=uk&daddr=London&pan
 el=1&f=d&fb=1&dirflg=d&geocode=0,51.613783,-0.125617&cid=0,0,107839183
 56520952634&hq=bowes+school
URL:https://maps.google.co.uk/maps?ie=utf-8&gl=uk&daddr=London&panel=1
 &f=d&fb=1&dirflg=d&geocode=0,51.613783,-0.125617&cid=0,0,1078391835652
 0952634&hq=bowes+school
CONTACT:
ORGANIZER;CN=Administrator:https://bowesandbounds.org/profile/Administ
 rator
ATTACH;FMTTYPE="image/jpeg":http://storage.ning.com/topology/rest/1.0/
 file/get/2287254136?profile=original
ATTENDEE;ROLE=REQ-PARTICIPANT;PARTSTAT=ACCEPTED;RSVP=TRUE;CN=Administr
 ator:https://bowesandbounds.org/profile/Administrator
END:VEVENT
END:VCALENDAR
