BEGIN:VCALENDAR
PRODID:NingEventWidget-v1
VERSION:2.0
METHOD:PUBLISH
BEGIN:VTIMEZONE
TZID:Europe/London
X-LIC-LOCATION:Europe/London
BEGIN:DAYLIGHT
TZOFFSETFROM:+0000
TZOFFSETTO:+0100
TZNAME:BST
DTSTART:19700329T010000
RRULE:FREQ=YEARLY;BYMONTH=3;BYDAY=-1SU
END:DAYLIGHT
BEGIN:STANDARD
TZOFFSETFROM:+0100
TZOFFSETTO:+0000
TZNAME:GMT
DTSTART:19701025T020000
RRULE:FREQ=YEARLY;BYMONTH=10;BYDAY=-1SU
END:STANDARD
END:VTIMEZONE
BEGIN:VEVENT
UID:6278630:Event:122685
DTSTAMP:20260424T212032Z
SUMMARY:We Bless This Mess
DESCRIPTION:Acoustic punk rock upstarts\n\nWE BLESS THIS MESS from Por
 tugal headline\n\nINTERNATIONAL SOUND INVADERS’ second installment a
 t North London’s Karamel\n\nFollowing acclaimed live performances in
  Europe and the US including renowned showcase festivals like Eurosoni
 c Noorderslag, SXSW and Reeperbahn – Porto’s 5-piece WE BLESS THIS
  MESS bring their adrenaline soaked positivity to the British capital 
 supported by opening act Wushta’s uplifting Lo-fi SynthPop.\n\nDoors
  7pm GMT on 17/05/2017 – £6\n\nLONDON, April 20, 2017 — “For fa
 ns of Frank Turner, Against Me!, Mumford & Sons and Bob Dylan, there i
 s the joy of We Bless This Mess. The 5-piece from Porto is in fact a s
 olo project by Nelson Graf Reis that takes the punk approach to folk m
 usic or equally, plays punk songs according to the ‚less is more‘ 
 philosophy. Nelson’s We Bless This Mess is all about expressing posi
 tivity and carpe diem: “We breathe, we are alive. This is the greate
 st gift.”\n\n60Minuten.net (Netherlands)\nWushta’s joyful live set
 s mix Lo-fi, Synth Pop and Electronica. The former drummer of Portugue
 se punk band ‘BlackJackers” has swapped the sticks for keyboards, 
 drum machines and a bass guitar, inciting the audience to celebrate li
 fe in the here and now.\n\nInternational Sound Invasion showcases upco
 ming musicians from abroad in London. Now more than ever, our purpose 
 is to enrich and strengthen the dialog between different cultures and 
 backgrounds that create this diverse and colorful city, by hosting mus
 ic events that bring together locals and foreigners in joy, with open 
 minds and hearts.\n\nFor more information visit https://bowesandbounds
 .org/events/we-bless-this-mess
DTSTART;TZID=Europe/London:20170517T190000
DTEND;TZID=Europe/London:20170517T230000
CATEGORIES:"'karamel'", "'karamel", "music'", "'acoustic'", "'music", 
 at, "karamel'", "'n22", in, wood, "green'", "'music'"
LOCATION:Karamel
WEBSITE:http://www.karamel.london
URL:http://www.karamel.london
CONTACT:0208 829 8989
ORGANIZER;CN="Events at Karamel":https://bowesandbounds.org/profile/Ph
 ilSherman
ATTACH;FMTTYPE="image/jpeg":http://storage.ning.com/topology/rest/1.0/
 file/get/2287318593?profile=original
ATTENDEE;ROLE=REQ-PARTICIPANT;PARTSTAT=ACCEPTED;RSVP=TRUE;CN="Events a
 t Karamel":https://bowesandbounds.org/profile/PhilSherman
END:VEVENT
END:VCALENDAR
