BEGIN:VCALENDAR
PRODID:NingEventWidget-v1
VERSION:2.0
METHOD:PUBLISH
BEGIN:VTIMEZONE
TZID:Europe/London
X-LIC-LOCATION:Europe/London
BEGIN:DAYLIGHT
TZOFFSETFROM:+0000
TZOFFSETTO:+0100
TZNAME:BST
DTSTART:19700329T010000
RRULE:FREQ=YEARLY;BYMONTH=3;BYDAY=-1SU
END:DAYLIGHT
BEGIN:STANDARD
TZOFFSETFROM:+0100
TZOFFSETTO:+0000
TZNAME:GMT
DTSTART:19701025T020000
RRULE:FREQ=YEARLY;BYMONTH=10;BYDAY=-1SU
END:STANDARD
END:VTIMEZONE
BEGIN:VEVENT
UID:6278630:Event:94282
DTSTAMP:20260419T141718Z
SUMMARY:We'll meet again: The spirit of the Forties
DESCRIPTION:\n\n\n\nFor more information visit https://bowesandbounds.
 org/events/we-ll-meet-again-the-spirit-of-the-forties
DTSTART;TZID=Europe/London:20150430T193000
DTEND;TZID=Europe/London:20150430T220000
CATEGORIES:charity, "alzheimers society"
LOCATION:Waterhouse Hall, Winchmore Hill URC
WEBSITE:http://www.winchmorehillurc.co.uk/
URL:http://www.winchmorehillurc.co.uk/
CONTACT:
ORGANIZER;CN="Donald Smith":https://bowesandbounds.org/profile/DonaldS
 mith
ATTACH;FMTTYPE="image/jpeg":http://storage.ning.com/topology/rest/1.0/
 file/get/2287285109?profile=original
ATTENDEE;ROLE=REQ-PARTICIPANT;PARTSTAT=ACCEPTED;RSVP=TRUE;CN="Donald S
 mith":https://bowesandbounds.org/profile/DonaldSmith
END:VEVENT
END:VCALENDAR
