BEGIN:VCALENDAR
PRODID:NingEventWidget-v1
VERSION:2.0
METHOD:PUBLISH
BEGIN:VTIMEZONE
TZID:Europe/London
X-LIC-LOCATION:Europe/London
BEGIN:DAYLIGHT
TZOFFSETFROM:+0000
TZOFFSETTO:+0100
TZNAME:BST
DTSTART:19700329T010000
RRULE:FREQ=YEARLY;BYMONTH=3;BYDAY=-1SU
END:DAYLIGHT
BEGIN:STANDARD
TZOFFSETFROM:+0100
TZOFFSETTO:+0000
TZNAME:GMT
DTSTART:19701025T020000
RRULE:FREQ=YEARLY;BYMONTH=10;BYDAY=-1SU
END:STANDARD
END:VTIMEZONE
BEGIN:VEVENT
UID:6278630:Event:98841
DTSTAMP:20260425T165044Z
SUMMARY:We Love Myddleton Road Meeting
DESCRIPTION:Following on from the great success of the Myddleton Road
  Street Festival, we now need to build on this over the late summer an
 d autumn.\n\nJoin us to help plan and organise how to capitalise on th
 e festival and recent shopping survey to further regenerate Myddleton 
 Road.\n\nAll welcome, old and new!\n\nFor more information visit https
 ://bowesandbounds.org/events/we-love-myddleton-road-meeting-4
DTSTART;TZID=Europe/London:20150730T193000
DTEND;TZID=Europe/London:20150730T210000
CATEGORIES:meeting
LOCATION:Mum's Bistro
WEBSITE:
URL:
CONTACT:
ORGANIZER;CN="Daniel Cowan":https://bowesandbounds.org/profile/DanielC
 owan
ATTACH;FMTTYPE="image/jpeg":
ATTENDEE;ROLE=REQ-PARTICIPANT;PARTSTAT=ACCEPTED;RSVP=TRUE;CN="Daniel C
 owan":https://bowesandbounds.org/profile/DanielCowan
END:VEVENT
END:VCALENDAR
