BEGIN:VCALENDAR
PRODID:NingEventWidget-v1
VERSION:2.0
METHOD:PUBLISH
BEGIN:VTIMEZONE
TZID:Europe/London
X-LIC-LOCATION:Europe/London
BEGIN:DAYLIGHT
TZOFFSETFROM:+0000
TZOFFSETTO:+0100
TZNAME:BST
DTSTART:19700329T010000
RRULE:FREQ=YEARLY;BYMONTH=3;BYDAY=-1SU
END:DAYLIGHT
BEGIN:STANDARD
TZOFFSETFROM:+0100
TZOFFSETTO:+0000
TZNAME:GMT
DTSTART:19701025T020000
RRULE:FREQ=YEARLY;BYMONTH=10;BYDAY=-1SU
END:STANDARD
END:VTIMEZONE
BEGIN:VEVENT
UID:6278630:Event:73210
DTSTAMP:20260425T180916Z
SUMMARY:We Love Myddleton Road - planning meeting
DESCRIPTION:The We Love Myddleton Road group is getting together to di
 scuss plans for taking action to tackle the issues the community has i
 dentified.  See the recent postÂ hereÂ for details of what the group i
 s planning.  We need people who want to get involved in our groups to 
 play an active part in planning actions and helping deliver change.  T
 his meeting will see us planning for the next year.\n For more informa
 tion or to let us know you want to help please email ilovemyddletonroa
 d@gmail.com\n  Thanks\n\nToby, on behalf of We Love Myddleton Road.\nÂ
  \nÂ \nÂ \nÂ \n\nFor more information visit https://bowesandbounds.org
 /events/we-love-myddleton-road-planning-meeting-1
DTSTART;TZID=Europe/London:20140225T193000
DTEND;TZID=Europe/London:20140225T213000
CATEGORIES:meeting, discussion, "strategy session"
LOCATION:The Step
WEBSITE:http://www.thestep.co.uk/
URL:http://www.thestep.co.uk/
CONTACT:
ORGANIZER;CN="Toby Nation":https://bowesandbounds.org/profile/TobyNati
 on
ATTACH;FMTTYPE="image/jpeg":http://storage.ning.com/topology/rest/1.0/
 file/get/2287260252?profile=original
ATTENDEE;ROLE=REQ-PARTICIPANT;PARTSTAT=ACCEPTED;RSVP=TRUE;CN=HF:https:
 //bowesandbounds.org/profile/HF
ATTENDEE;ROLE=REQ-PARTICIPANT;PARTSTAT=ACCEPTED;RSVP=TRUE;CN="Chris Je
 nkinson":https://bowesandbounds.org/profile/ChrisJenkinson
ATTENDEE;ROLE=REQ-PARTICIPANT;PARTSTAT=ACCEPTED;RSVP=TRUE;CN=Lucia:htt
 ps://bowesandbounds.org/profile/Lucia
ATTENDEE;ROLE=REQ-PARTICIPANT;PARTSTAT=ACCEPTED;RSVP=TRUE;CN="Ashleena
  Deike":https://bowesandbounds.org/profile/AshleenaDeike
ATTENDEE;ROLE=REQ-PARTICIPANT;PARTSTAT=ACCEPTED;RSVP=TRUE;CN="Charlott
 e White":https://bowesandbounds.org/profile/CharlotteWhite
ATTENDEE;ROLE=REQ-PARTICIPANT;PARTSTAT=ACCEPTED;RSVP=TRUE;CN="Rosalind
  Kidd":https://bowesandbounds.org/profile/RosalindKidd
ATTENDEE;ROLE=REQ-PARTICIPANT;PARTSTAT=ACCEPTED;RSVP=TRUE;CN="Daniel C
 owan":https://bowesandbounds.org/profile/DanielCowan
ATTENDEE;ROLE=REQ-PARTICIPANT;PARTSTAT=ACCEPTED;RSVP=TRUE;CN="Matthew 
 Clark":https://bowesandbounds.org/profile/MatthewClark
ATTENDEE;ROLE=REQ-PARTICIPANT;PARTSTAT=ACCEPTED;RSVP=TRUE;CN="Richard 
 McKeever":https://bowesandbounds.org/profile/3hwxkqhdde8gc
ATTENDEE;ROLE=REQ-PARTICIPANT;PARTSTAT=ACCEPTED;RSVP=TRUE;CN="Jennie S
 awyer":https://bowesandbounds.org/profile/JennieFergusson
ATTENDEE;ROLE=REQ-PARTICIPANT;PARTSTAT=ACCEPTED;RSVP=TRUE;CN="Toby Nat
 ion":https://bowesandbounds.org/profile/TobyNation
END:VEVENT
END:VCALENDAR
