BEGIN:VCALENDAR
PRODID:NingEventWidget-v1
VERSION:2.0
METHOD:PUBLISH
BEGIN:VTIMEZONE
TZID:Europe/London
X-LIC-LOCATION:Europe/London
BEGIN:DAYLIGHT
TZOFFSETFROM:+0000
TZOFFSETTO:+0100
TZNAME:BST
DTSTART:19700329T010000
RRULE:FREQ=YEARLY;BYMONTH=3;BYDAY=-1SU
END:DAYLIGHT
BEGIN:STANDARD
TZOFFSETFROM:+0100
TZOFFSETTO:+0000
TZNAME:GMT
DTSTART:19701025T020000
RRULE:FREQ=YEARLY;BYMONTH=10;BYDAY=-1SU
END:STANDARD
END:VTIMEZONE
BEGIN:VEVENT
UID:6278630:Event:115088
DTSTAMP:20260422T174906Z
SUMMARY:Welwyn Garden City to Welwyn North
DESCRIPTION:7.5 mile linear walk from Welwyn Garden City to Welwyn Nor
 th – there is the possibility for those wanting a lesser distance to
  sit out part of the walk (just over 3 miles) in the village of Ayot G
 reen (on a bench or at The Waggoners) to be collected as we pass back 
 through the village before we head back over the A1(M) and onwards to 
 Welwyn North. A pleasant country walk involving woods, a golf course, 
 the banks of the R Lea and old railway track. On the run-in to Welwyn 
 North Station we will have a splendid view of the Digswell Viaduct Wal
 k Leader: Caroline Wall (07803 172527) Outward Journey Please meet at 
 New Southgate Station , ticketed and ready to catch the 13:57 train (i
 t calls at Alexandra Palace 3 minutes earlier at 13:54) which arrives 
 at Welwyn Garden City at 14.23. You will need to buy a ticket as an Oy
 stercard will not cover you for the full journey. Return Journey Retur
 n trains from Welwyn North are at 19 and 49 minutes past the hour. Ple
 ase note that these trains call at Welwyn Garden City, Hatfield, Potte
 rs Bar and Finsbury Park. To return to New Southgate or Alexandra Pala
 ce you will need to hop out at Potters Bar and wait a few minutes for 
 the stopping service. From Welwyn GC Station we head across the “gar
 deny-city” bits to Campus West and then cross from a car park into S
 herrardspark Wood an SSSI and Nature Reserve and head N to cross the A
 1(M) to the village of Ayot Green. We then take a path S and W through
  the Brocket Park Estate before joining a path along the River Lea to 
 Waterend with its ford and the attractive gabled Waterend House built 
 in Elizabethan times. From here we head a short distance N and join th
 e Ayot Green Way (an old railway line) back to Ayot Green. Here we wil
 l collect anyone who has opted to sit out part of the walk. We then he
 ad back over the A1(M) and E and N through the woods to Digswell. Just
  before we head up alleyways to Welwyn N, we will see the impressive D
 igswell Viaduct. There is the opportunity to take post-walk refreshmen
 t at the Cowper Arms next to the station.\n\nFor more information visi
 t https://bowesandbounds.org/events/welwyn-garden-city-to-welwyn-north
DTSTART;TZID=Europe/London:20160625T134500
DTEND;TZID=Europe/London:20160625T190000
CATEGORIES:walk, and, social
LOCATION:Meet at New Southgate Station
WEBSITE:
URL:
CONTACT:Caroline Wall (07803 172527)
ORGANIZER;CN=EyeInTheSky:https://bowesandbounds.org/profile/EyeInTheSk
 y
ATTACH;FMTTYPE="image/jpeg":
ATTENDEE;ROLE=REQ-PARTICIPANT;PARTSTAT=ACCEPTED;RSVP=TRUE;CN=EyeInTheS
 ky:https://bowesandbounds.org/profile/EyeInTheSky
END:VEVENT
END:VCALENDAR
