BEGIN:VCALENDAR
PRODID:NingEventWidget-v1
VERSION:2.0
METHOD:PUBLISH
BEGIN:VTIMEZONE
TZID:Europe/London
X-LIC-LOCATION:Europe/London
BEGIN:DAYLIGHT
TZOFFSETFROM:+0000
TZOFFSETTO:+0100
TZNAME:BST
DTSTART:19700329T010000
RRULE:FREQ=YEARLY;BYMONTH=3;BYDAY=-1SU
END:DAYLIGHT
BEGIN:STANDARD
TZOFFSETFROM:+0100
TZOFFSETTO:+0000
TZNAME:GMT
DTSTART:19701025T020000
RRULE:FREQ=YEARLY;BYMONTH=10;BYDAY=-1SU
END:STANDARD
END:VTIMEZONE
BEGIN:VEVENT
UID:6278630:Event:109554
DTSTAMP:20260423T231109Z
SUMMARY:Wetlands Spring Spruce Up
DESCRIPTION:WETLANDS SPRING SPRUCE UPSunday 13th March 10.30 am – 1 
 pmMeet at the junction of Merryhills Drive and Lonsdale Drive, Enfield
 , EN2 7PQJoin Thames21 to spruce up the Glenbrook wetlands and surroun
 ding woodland. Help to create an inviting space for people and wildlif
 e and maintain the wetlands which cleanse the stream.Contact aimee.fel
 us@thames21.org.uk07500 842283www.thames21.org.ukRefreshments and all 
 equipment provided. Please wear comfortable outdoor clothes that you d
 on’t mind getting messy.Children aged 6 and over are welcome supervi
 sed by an adult. Maximum of 2 children per adult please.\n\nFor more i
 nformation visit https://bowesandbounds.org/events/wetlands-spring-spr
 uce-up
DTSTART;TZID=Europe/London:20160313T103000
DTEND;TZID=Europe/London:20160313T130000
CATEGORIES:volunteering, event
LOCATION:Oakwood, Enfield
WEBSITE:http://www.thames21.org.uk/events
URL:http://www.thames21.org.uk/events
CONTACT:07500 842283
ORGANIZER;CN="Aimee Thames21":https://bowesandbounds.org/profile/Aimee
 Thames21
ATTACH;FMTTYPE="image/jpeg":
ATTENDEE;ROLE=REQ-PARTICIPANT;PARTSTAT=ACCEPTED;RSVP=TRUE;CN="Aimee Th
 ames21":https://bowesandbounds.org/profile/AimeeThames21
END:VEVENT
END:VCALENDAR
