BEGIN:VCALENDAR
PRODID:NingEventWidget-v1
VERSION:2.0
METHOD:PUBLISH
BEGIN:VTIMEZONE
TZID:Europe/London
X-LIC-LOCATION:Europe/London
BEGIN:DAYLIGHT
TZOFFSETFROM:+0000
TZOFFSETTO:+0100
TZNAME:BST
DTSTART:19700329T010000
RRULE:FREQ=YEARLY;BYMONTH=3;BYDAY=-1SU
END:DAYLIGHT
BEGIN:STANDARD
TZOFFSETFROM:+0100
TZOFFSETTO:+0000
TZNAME:GMT
DTSTART:19701025T020000
RRULE:FREQ=YEARLY;BYMONTH=10;BYDAY=-1SU
END:STANDARD
END:VTIMEZONE
BEGIN:VEVENT
UID:6278630:Event:90883
DTSTAMP:20260423T140724Z
SUMMARY:Where We Live Photographic exhibition by members of the Click 
 Camera Club
DESCRIPTION:Photos by Click Camera Club will be exhibited at Alexandra
  Park Library during March 2015.\n\n\"Where We Live\" showcases the pe
 ople, communities and landscapes around us. Taken by members of Click 
 Camera Club, the photos utilise various styles and techniques, and all
  have been taken during the past 12 months.\n\n\nFor more information 
 visit https://bowesandbounds.org/events/where-we-live-photgraphic-exhi
 bition-by-members-of-the-click-came
DTSTART;TZID=Europe/London:20150303T000000
DTEND;TZID=Europe/London:20150331T235900
CATEGORIES:photography, exhibition
LOCATION:Alexandra Park Library
WEBSITE:https://www.facebook.com/groups/163324897185631/
URL:https://www.facebook.com/groups/163324897185631/
CONTACT:
ORGANIZER;CN=Administrator:https://bowesandbounds.org/profile/Administ
 rator
ATTACH;FMTTYPE="image/jpeg":http://storage.ning.com/topology/rest/1.0/
 file/get/2287226756?profile=original
ATTENDEE;ROLE=REQ-PARTICIPANT;PARTSTAT=ACCEPTED;RSVP=TRUE;CN=Administr
 ator:https://bowesandbounds.org/profile/Administrator
ATTENDEE;ROLE=REQ-PARTICIPANT;PARTSTAT=ACCEPTED;RSVP=TRUE;CN=Jane:http
 s://bowesandbounds.org/profile/Jane976
ATTENDEE;ROLE=REQ-PARTICIPANT;PARTSTAT=ACCEPTED;RSVP=TRUE;CN="Stephen 
 Middleton":https://bowesandbounds.org/profile/StephenMiddleton
ATTENDEE;ROLE=REQ-PARTICIPANT;PARTSTAT=ACCEPTED;RSVP=TRUE;CN="Richard 
 McKeever":https://bowesandbounds.org/profile/3hwxkqhdde8gc
END:VEVENT
END:VCALENDAR
