BEGIN:VCALENDAR
PRODID:NingEventWidget-v1
VERSION:2.0
METHOD:PUBLISH
BEGIN:VTIMEZONE
TZID:Europe/London
X-LIC-LOCATION:Europe/London
BEGIN:DAYLIGHT
TZOFFSETFROM:+0000
TZOFFSETTO:+0100
TZNAME:BST
DTSTART:19700329T010000
RRULE:FREQ=YEARLY;BYMONTH=3;BYDAY=-1SU
END:DAYLIGHT
BEGIN:STANDARD
TZOFFSETFROM:+0100
TZOFFSETTO:+0000
TZNAME:GMT
DTSTART:19701025T020000
RRULE:FREQ=YEARLY;BYMONTH=10;BYDAY=-1SU
END:STANDARD
END:VTIMEZONE
BEGIN:VEVENT
UID:6278630:Event:235430
DTSTAMP:20260422T132718Z
SUMMARY:Wild Flower Walks in Alexandra Park
DESCRIPTION:11:30am and 2:30pm starts.\n \nJoin Caroline for a look a
 t the wild flowers appearing in the park. At this time of year there i
 s always plenty to see. To facilitate social distancing, we are restri
 cting each walk to 8 people.\n \nEmail AllyparkN10@gmail.com to book 
 a place(s) saying whether you prefer the 11:30 or 2:30 start. We will 
 reply giving the starting location for the walk.\n\nFor more informati
 on visit https://bowesandbounds.org/events/wild-flower-walks-in-alexan
 dra-park
DTSTART;TZID=Europe/London:20210626T113000
DTEND;TZID=Europe/London:20210626T124500
CATEGORIES:walk
LOCATION:Alexandra Park
WEBSITE:http://www.friendsofalexandrapark.org
URL:http://www.friendsofalexandrapark.org
CONTACT:
ORGANIZER;CN="Stephen Middleton":https://bowesandbounds.org/profile/St
 ephenMiddleton
ATTACH;FMTTYPE="image/jpeg":https://storage.ning.com/topology/rest/1.0
 /file/get/9063682055?profile=original
ATTENDEE;ROLE=REQ-PARTICIPANT;PARTSTAT=ACCEPTED;RSVP=TRUE;CN="Stephen 
 Middleton":https://bowesandbounds.org/profile/StephenMiddleton
END:VEVENT
END:VCALENDAR
