BEGIN:VCALENDAR
PRODID:NingEventWidget-v1
VERSION:2.0
METHOD:PUBLISH
BEGIN:VTIMEZONE
TZID:Europe/London
X-LIC-LOCATION:Europe/London
BEGIN:DAYLIGHT
TZOFFSETFROM:+0000
TZOFFSETTO:+0100
TZNAME:BST
DTSTART:19700329T010000
RRULE:FREQ=YEARLY;BYMONTH=3;BYDAY=-1SU
END:DAYLIGHT
BEGIN:STANDARD
TZOFFSETFROM:+0100
TZOFFSETTO:+0000
TZNAME:GMT
DTSTART:19701025T020000
RRULE:FREQ=YEARLY;BYMONTH=10;BYDAY=-1SU
END:STANDARD
END:VTIMEZONE
BEGIN:VEVENT
UID:6278630:Event:117340
DTSTAMP:20260424T064750Z
SUMMARY:Wildfire Bonfire & Fireworks Display Bounds Green
DESCRIPTION:This annual, family-friendly bonfire and fireworks display
  draws crowds from all over North London to Scout Park in Bounds Green
 . With a variety of food stalls, from Norwegian waffles to barbecue an
 d handmade falafel wraps, games for children, and an impressive array 
 of sweet treats, there really is something for everyone. Not to mentio
 n marshmallow toasting on the bonfire, and, of course, the main event:
  the fireworks! \nLast year’s event was featured as one of Buzzfee
 d’s ‘16 Amazing Places to Watch Fireworks in London‘, and many o
 f our visitors have ranked us higher than local competitors, includi
 ng Alexandra Palace!\nThe display is characterised by its family-frien
 dly atmosphere and all-round appeal. Run by young people (with profess
 ional support) for the local community, the Scouts are proud to put on
  an event that stands out from the crowd. Now in its eighth year, it w
 ill be held on the 5th of November 2016 at Scout Park, Gordon Road, Bo
 unds Green, N11 2PB\nGates open at 5:00pm, Fireworks display 7:30pm, e
 vent closes 9:00pm.\nAdults (18+) £5.00, Children (6-18) £4.00, unde
 r 6 free.\nTickets available from Scout Park every Wednesday evening i
 n October between 7.30pm & 9.30pm.\nFor more details, have a little no
 se round the website at https://wildwolfesu.org/ and the useful FAQs, 
 and if you can’t find what you’re looking for then please do get i
 n touch at wildwolfesu@gmail.com!\n\nFor more information visit https:
 //bowesandbounds.org/events/wildfire-bonfire-fireworks-display-bounds-
 green
DTSTART;TZID=Europe/London:20161105T170000
DTEND;TZID=Europe/London:20161105T210000
CATEGORIES:fireworks, display
LOCATION:Scout Park Bounds Green
WEBSITE:http://wildwolfesu.org/wildfire
URL:http://wildwolfesu.org/wildfire
CONTACT:
ORGANIZER:Wild Wolf Explorer Scouts
ATTACH;FMTTYPE="image/jpeg":http://storage.ning.com/topology/rest/1.0/
 file/get/2287314541?profile=original
ATTENDEE;ROLE=REQ-PARTICIPANT;PARTSTAT=ACCEPTED;RSVP=TRUE;CN="Rachel W
 ells":https://bowesandbounds.org/profile/RachelWells
ATTENDEE;ROLE=REQ-PARTICIPANT;PARTSTAT=ACCEPTED;RSVP=TRUE;CN="North Lo
 ndon Scouts":https://bowesandbounds.org/profile/NorthLondonScouts
END:VEVENT
END:VCALENDAR
