BEGIN:VCALENDAR
PRODID:NingEventWidget-v1
VERSION:2.0
METHOD:PUBLISH
BEGIN:VTIMEZONE
TZID:Europe/London
X-LIC-LOCATION:Europe/London
BEGIN:DAYLIGHT
TZOFFSETFROM:+0000
TZOFFSETTO:+0100
TZNAME:BST
DTSTART:19700329T010000
RRULE:FREQ=YEARLY;BYMONTH=3;BYDAY=-1SU
END:DAYLIGHT
BEGIN:STANDARD
TZOFFSETFROM:+0100
TZOFFSETTO:+0000
TZNAME:GMT
DTSTART:19701025T020000
RRULE:FREQ=YEARLY;BYMONTH=10;BYDAY=-1SU
END:STANDARD
END:VTIMEZONE
BEGIN:VEVENT
UID:6278630:Event:138366
DTSTAMP:20260419T144748Z
SUMMARY:Winchmore Hill Quaker Meeting - Open House
DESCRIPTION:Find out about the history of this elegant, eighteenth cen
 tury building and enjoy the peace and tranquillity of the historic gar
 den and burial ground. Entrance and refreshments are free. Part of Ope
 n House London 2019. Accessibility: Wheelchair access to the building,
  including disabled toilet, is good. Outside, the ground is uneven and
  sometimes has unexpected holes.\nONLY 5 MINUTES ON THE TRAIN FROM BP 
 TO WINCHMORE HILL. Turn right out of the station and keep going past t
 he pub.\n\nFor more information visit https://bowesandbounds.org/event
 s/winchmore-hill-quaker-meeting-open-house-2
DTSTART;TZID=Europe/London:20190921T140000
DTEND;TZID=Europe/London:20190921T170000
CATEGORIES:open, house
LOCATION:Winchmore Hill
WEBSITE:http://www.winchmorehillquakers.org.uk/
URL:http://www.winchmorehillquakers.org.uk/
CONTACT:
ORGANIZER;CN="Catharine Perry":https://bowesandbounds.org/profile/Cath
 arinePerry
ATTACH;FMTTYPE="image/jpeg":https://storage.ning.com/topology/rest/1.0
 /file/get/2287327974?profile=original
ATTENDEE;ROLE=REQ-PARTICIPANT;PARTSTAT=ACCEPTED;RSVP=TRUE;CN="Catharin
 e Perry":https://bowesandbounds.org/profile/CatharinePerry
END:VEVENT
END:VCALENDAR
