BEGIN:VCALENDAR
PRODID:NingEventWidget-v1
VERSION:2.0
METHOD:PUBLISH
BEGIN:VTIMEZONE
TZID:Europe/London
X-LIC-LOCATION:Europe/London
BEGIN:DAYLIGHT
TZOFFSETFROM:+0000
TZOFFSETTO:+0100
TZNAME:BST
DTSTART:19700329T010000
RRULE:FREQ=YEARLY;BYMONTH=3;BYDAY=-1SU
END:DAYLIGHT
BEGIN:STANDARD
TZOFFSETFROM:+0100
TZOFFSETTO:+0000
TZNAME:GMT
DTSTART:19701025T020000
RRULE:FREQ=YEARLY;BYMONTH=10;BYDAY=-1SU
END:STANDARD
END:VTIMEZONE
BEGIN:VEVENT
UID:6278630:Event:244834
DTSTAMP:20260419T125409Z
SUMMARY:Windrush 75: At Home With The Mckenzies - An Evening In Conver
 sation
DESCRIPTION:On the 75th Anniversary of National Windrush Day, come and
  join three members of Haringey’s Mckenzie Family for an intimate co
 nversation about what home means to them – share stories in this eve
 ning about family values, music, food, church, putting 50p into the ba
 ck of the TV set, and the significance of ‘Only Fools and Horses’,
  ‘Mind Your Language’ and ‘Roots’. Growing up in the 1960s was
  fun but also shadowed by their parents’ broken dreams of life in En
 gland ‘being paved in gold’. Listen to stories of comedy, bravery,
  activism and good old family fun! \nAll welcome. Doors open at 6.30p
 m for refreshments.\nPlease book your free place for this in-person ev
 ent at the museum via Eventbrite.\nWith kind support from The Windrus
 h Day Grant Scheme.\nFor more information please email museum.services
 @haringey.gov.uk, or call 020 8489 4250\n\nFor more information visit 
 https://bowesandbounds.org/events/windrush-75-at-home-with-the-mckenzi
 es-an-evening-in-conversation
DTSTART;TZID=Europe/London:20230622T190000
DTEND;TZID=Europe/London:20230622T203000
CATEGORIES:talk
LOCATION:Bruce Castle Museum
WEBSITE:https://www.eventbrite.co.uk/e/windrush-75-at-home-with-the-mc
 kenzies-an-evening-in-conversation-tickets-637884007237
URL:https://www.eventbrite.co.uk/e/windrush-75-at-home-with-the-mckenz
 ies-an-evening-in-conversation-tickets-637884007237
CONTACT:
ORGANIZER;CN="Deborah Hedgecock":https://bowesandbounds.org/profile/De
 borahHedgecock
ATTACH;FMTTYPE="image/jpeg":https://storage.ning.com/topology/rest/1.0
 /file/get/11485092657?profile=original
ATTENDEE;ROLE=REQ-PARTICIPANT;PARTSTAT=ACCEPTED;RSVP=TRUE;CN="Deborah 
 Hedgecock":https://bowesandbounds.org/profile/DeborahHedgecock
END:VEVENT
END:VCALENDAR
