BEGIN:VCALENDAR
PRODID:NingEventWidget-v1
VERSION:2.0
METHOD:PUBLISH
BEGIN:VTIMEZONE
TZID:Europe/London
X-LIC-LOCATION:Europe/London
BEGIN:DAYLIGHT
TZOFFSETFROM:+0000
TZOFFSETTO:+0100
TZNAME:BST
DTSTART:19700329T010000
RRULE:FREQ=YEARLY;BYMONTH=3;BYDAY=-1SU
END:DAYLIGHT
BEGIN:STANDARD
TZOFFSETFROM:+0100
TZOFFSETTO:+0000
TZNAME:GMT
DTSTART:19701025T020000
RRULE:FREQ=YEARLY;BYMONTH=10;BYDAY=-1SU
END:STANDARD
END:VTIMEZONE
BEGIN:VEVENT
UID:6278630:Event:245026
DTSTAMP:20260425T021012Z
SUMMARY:Windrush 75: Our Caribbean Corner in Tottenham - Community and
  Cultural Day
DESCRIPTION:Have a fun-filled day celebrating the Windrush Generation 
 & Legacy in our \"Caribbean Corner\" at Bruce Castle & The Antwerp Arm
 s. Come & see vintage stalls, make vintage hats, taste Caribbean food,
  share memories, play games, discover local heroes on guided tours, li
 sten to inspirational speakers, music, storytelling, enjoy dance, film
 s, exhibitions...And party into the night.\nBruce Castle Museum\nFrom 
 10.30am browse vintage stalls, craft a vintage hat with Sian Dorman, h
 ave family fun getting arty, reminisce with 4U2 at Memories Corner or 
 walk back in time on Avril Nanton's tour (more details here). From 11
 .30am hear Alex Pascal MBE and enjoy Windrush-inspired dance by Street
 z Ahead. At 12.30pm celebrate at our Windrush-themed Tea Party, with p
 erformances by Mama Souljah singing, John McAnuff on guitar, and story
 telling and comedy with Miss Florence. \nThere will also be a raffle 
 with prizes, plus a hat parade.\nThe Antwerp Arms\nFrom 2pm have a tas
 te at our Big Caribbean Buffet, visit a pilot exhibition of stories fr
 om Caribbean diaspora families and see Windrush Generation-themed film
 s. The entertainment continues into the evening until 11pm with music 
 selected by DJ Judith Jacobs.\nwww.antwerparms.co.uk\n\nFor more infor
 mation visit https://bowesandbounds.org/events/windrush-75-our-caribbe
 an-corner-in-tottenham-community-and
DTSTART;TZID=Europe/London:20230624T103000
DTEND;TZID=Europe/London:20230624T230000
CATEGORIES:community, event
LOCATION:Bruce Castle Museum
WEBSITE:https://www.brucecastle.org/special-events
URL:https://www.brucecastle.org/special-events
CONTACT:
ORGANIZER;CN="Deborah Hedgecock":https://bowesandbounds.org/profile/De
 borahHedgecock
ATTACH;FMTTYPE="image/jpeg":https://storage.ning.com/topology/rest/1.0
 /file/get/11485110872?profile=original
ATTENDEE;ROLE=REQ-PARTICIPANT;PARTSTAT=ACCEPTED;RSVP=TRUE;CN="Deborah 
 Hedgecock":https://bowesandbounds.org/profile/DeborahHedgecock
END:VEVENT
END:VCALENDAR
