BEGIN:VCALENDAR
PRODID:NingEventWidget-v1
VERSION:2.0
METHOD:PUBLISH
BEGIN:VTIMEZONE
TZID:Europe/London
X-LIC-LOCATION:Europe/London
BEGIN:DAYLIGHT
TZOFFSETFROM:+0000
TZOFFSETTO:+0100
TZNAME:BST
DTSTART:19700329T010000
RRULE:FREQ=YEARLY;BYMONTH=3;BYDAY=-1SU
END:DAYLIGHT
BEGIN:STANDARD
TZOFFSETFROM:+0100
TZOFFSETTO:+0000
TZNAME:GMT
DTSTART:19701025T020000
RRULE:FREQ=YEARLY;BYMONTH=10;BYDAY=-1SU
END:STANDARD
END:VTIMEZONE
BEGIN:VEVENT
UID:6278630:Event:103855
DTSTAMP:20260422T013659Z
SUMMARY:Wine tasting
DESCRIPTION:Wine tasting event coming up at Eco Vino Teatro - a new i
 ndependent wine bar at the Dudgdale Arts Centre in Enfield. They reall
 y know their wines and I recommend this place.  Tasting is Italian Sp
 arkling.\nLots of other events going on there too - or just a nice pla
 ce to visit if you like really well chosen wines. They know their stu
 ff and it's a place worth supporting. \n\nFor more information visit 
 https://bowesandbounds.org/events/wine-tasting
DTSTART;TZID=Europe/London:20151209T200000
DTEND;TZID=Europe/London:20151209T220000
CATEGORIES:wine, tasting
LOCATION:Dugdale Arts Centre Enfield
WEBSITE:https://www.facebook.com/ecovinoteatro/
URL:https://www.facebook.com/ecovinoteatro/
CONTACT:
ORGANIZER;CN="Melanie Corfield":https://bowesandbounds.org/profile/Mel
 anieCorfield
ATTACH;FMTTYPE="image/jpeg":
ATTENDEE;ROLE=REQ-PARTICIPANT;PARTSTAT=ACCEPTED;RSVP=TRUE;CN="Melanie 
 Corfield":https://bowesandbounds.org/profile/MelanieCorfield
END:VEVENT
END:VCALENDAR
