BEGIN:VCALENDAR
PRODID:NingEventWidget-v1
VERSION:2.0
METHOD:PUBLISH
BEGIN:VTIMEZONE
TZID:Europe/London
X-LIC-LOCATION:Europe/London
BEGIN:DAYLIGHT
TZOFFSETFROM:+0000
TZOFFSETTO:+0100
TZNAME:BST
DTSTART:19700329T010000
RRULE:FREQ=YEARLY;BYMONTH=3;BYDAY=-1SU
END:DAYLIGHT
BEGIN:STANDARD
TZOFFSETFROM:+0100
TZOFFSETTO:+0000
TZNAME:GMT
DTSTART:19701025T020000
RRULE:FREQ=YEARLY;BYMONTH=10;BYDAY=-1SU
END:STANDARD
END:VTIMEZONE
BEGIN:VEVENT
UID:6278630:Event:126606
DTSTAMP:20260425T201816Z
SUMMARY:WInging It - Bounds Green Talkies Community Cinema
DESCRIPTION:Another great evening put together by local TalkiesCommuni
 ty Cinema.\n\nMore information on this and our other events at www.tal
 kies.org.uk\n\nFor more information visit https://bowesandbounds.org/e
 vents/winging-it-bounds-green-talkies-community-cinema
DTSTART;TZID=Europe/London:20171110T193000
DTEND;TZID=Europe/London:20171110T220000
CATEGORIES:film, evening
LOCATION:Bounds Green Bowls &amp; Tennis Club
WEBSITE:http://www.talkies.org.uk
URL:http://www.talkies.org.uk
CONTACT:
ORGANIZER:Bounds Green Talkies
ATTACH;FMTTYPE="image/jpeg":
ATTENDEE;ROLE=REQ-PARTICIPANT;PARTSTAT=ACCEPTED;RSVP=TRUE;CN="Stephen 
 Middleton":https://bowesandbounds.org/profile/StephenMiddleton
ATTENDEE;ROLE=REQ-PARTICIPANT;PARTSTAT=ACCEPTED;RSVP=TRUE;CN="David Wi
 lliamson":https://bowesandbounds.org/profile/DavidWilliamson
ATTENDEE;ROLE=REQ-PARTICIPANT;PARTSTAT=ACCEPTED;RSVP=TRUE;CN="Judy McG
 ough":https://bowesandbounds.org/profile/JudyMcGough
END:VEVENT
END:VCALENDAR
