BEGIN:VCALENDAR
PRODID:NingEventWidget-v1
VERSION:2.0
METHOD:PUBLISH
BEGIN:VTIMEZONE
TZID:Europe/London
X-LIC-LOCATION:Europe/London
BEGIN:DAYLIGHT
TZOFFSETFROM:+0000
TZOFFSETTO:+0100
TZNAME:BST
DTSTART:19700329T010000
RRULE:FREQ=YEARLY;BYMONTH=3;BYDAY=-1SU
END:DAYLIGHT
BEGIN:STANDARD
TZOFFSETFROM:+0100
TZOFFSETTO:+0000
TZNAME:GMT
DTSTART:19701025T020000
RRULE:FREQ=YEARLY;BYMONTH=10;BYDAY=-1SU
END:STANDARD
END:VTIMEZONE
BEGIN:VEVENT
UID:6278630:Event:121842
DTSTAMP:20260419T151355Z
SUMMARY:Winnie the Pooh walk, Coldfall Wood
DESCRIPTION:Explore the ‘Hundred Acre Wood' and hear stories from Wi
 nnie the Pooh's life. What will we find this time? Will we catch a hef
 falump?Led by Sita Brand, storyteller and Director of Settle Stories.\
 nSpaces limited. Please book on website.\nThis is an outdoor activity 
 in Coldfall Wood. Please dress appropriately for the weather. We will 
 be walking on uneven ground, though consideration will be given to the
  needs of young children. All children must be accompanied by an adult
 .\n\nFor more information visit https://bowesandbounds.org/events/winn
 ie-the-pooh-walk-coldfall-wood
DTSTART;TZID=Europe/London:20170319T120000
DTEND;TZID=Europe/London:20170319T130000
CATEGORIES:nature, and, storytelling, walk
LOCATION:Muswell Hill
WEBSITE:http://www.coldfallwoods.co.uk
URL:http://www.coldfallwoods.co.uk
CONTACT:
ORGANIZER;CN="Krishna Ramamurthy":https://bowesandbounds.org/profile/K
 rishnaRamamurthy
ATTACH;FMTTYPE="image/jpeg":http://storage.ning.com/topology/rest/1.0/
 file/get/2287317102?profile=original
ATTENDEE;ROLE=REQ-PARTICIPANT;PARTSTAT=ACCEPTED;RSVP=TRUE;CN="Krishna 
 Ramamurthy":https://bowesandbounds.org/profile/KrishnaRamamurthy
END:VEVENT
END:VCALENDAR
