BEGIN:VCALENDAR
PRODID:NingEventWidget-v1
VERSION:2.0
METHOD:PUBLISH
BEGIN:VTIMEZONE
TZID:Europe/London
X-LIC-LOCATION:Europe/London
BEGIN:DAYLIGHT
TZOFFSETFROM:+0000
TZOFFSETTO:+0100
TZNAME:BST
DTSTART:19700329T010000
RRULE:FREQ=YEARLY;BYMONTH=3;BYDAY=-1SU
END:DAYLIGHT
BEGIN:STANDARD
TZOFFSETFROM:+0100
TZOFFSETTO:+0000
TZNAME:GMT
DTSTART:19701025T020000
RRULE:FREQ=YEARLY;BYMONTH=10;BYDAY=-1SU
END:STANDARD
END:VTIMEZONE
BEGIN:VEVENT
UID:6278630:Event:86743
DTSTAMP:20260422T022246Z
SUMMARY:Winter Arts and Crafts Fair
DESCRIPTION:This year the Fair will be bigger and better than ever.Â Â
  \nAn ideal opportunity to start your Christmas shopping, choosing fro
 m an extensive range of affordable work from local artisans.\n\nFor mo
 re information visit https://bowesandbounds.org/events/winter-arts-and
 -crafts-fair
DTSTART;TZID=Europe/London:20141129T100000
DTEND;TZID=Europe/London:20141129T160000
CATEGORIES:fundraiser
LOCATION:Alexandra park Library
WEBSITE:
URL:
CONTACT:
ORGANIZER;CN="soulla katsiani":https://bowesandbounds.org/profile/soul
 lakatsiani
ATTACH;FMTTYPE="image/jpeg":
ATTENDEE;ROLE=REQ-PARTICIPANT;PARTSTAT=ACCEPTED;RSVP=TRUE;CN="soulla k
 atsiani":https://bowesandbounds.org/profile/soullakatsiani
END:VEVENT
END:VCALENDAR
