BEGIN:VCALENDAR
PRODID:NingEventWidget-v1
VERSION:2.0
METHOD:PUBLISH
BEGIN:VTIMEZONE
TZID:Europe/London
X-LIC-LOCATION:Europe/London
BEGIN:DAYLIGHT
TZOFFSETFROM:+0000
TZOFFSETTO:+0100
TZNAME:BST
DTSTART:19700329T010000
RRULE:FREQ=YEARLY;BYMONTH=3;BYDAY=-1SU
END:DAYLIGHT
BEGIN:STANDARD
TZOFFSETFROM:+0100
TZOFFSETTO:+0000
TZNAME:GMT
DTSTART:19701025T020000
RRULE:FREQ=YEARLY;BYMONTH=10;BYDAY=-1SU
END:STANDARD
END:VTIMEZONE
BEGIN:VEVENT
UID:6278630:Event:104750
DTSTAMP:20260424T101103Z
SUMMARY:Winter Fair
DESCRIPTION:Friends of Bowes are holding a Winter Fair at the school o
 n Friday 4th December from 7.30 – 9.30pm. In addition to mulled wine
 , mince pies, festive music and some fabulous stalls selling decoratio
 ns and gifts, we will be taking orders on Christmas trees at fantastic
  prices. The trees are locally grown and will be delivered to Bowes fo
 r collection on the 11th December.\n \nCome along and support the sch
 ool!\n\nFor more information visit https://bowesandbounds.org/events/w
 inter-fair
DTSTART;TZID=Europe/London:20151204T193000
DTEND;TZID=Europe/London:20151204T213000
CATEGORIES:fundraiser
LOCATION:Bowes Primary School
WEBSITE:
URL:
CONTACT:
ORGANIZER;CN="Keeren shah":https://bowesandbounds.org/profile/Keerensh
 ah
ATTACH;FMTTYPE="image/jpeg":http://storage.ning.com/topology/rest/1.0/
 file/get/2287301859?profile=original
ATTENDEE;ROLE=REQ-PARTICIPANT;PARTSTAT=ACCEPTED;RSVP=TRUE;CN="Keeren s
 hah":https://bowesandbounds.org/profile/Keerenshah
END:VEVENT
END:VCALENDAR
