BEGIN:VCALENDAR
PRODID:NingEventWidget-v1
VERSION:2.0
METHOD:PUBLISH
BEGIN:VTIMEZONE
TZID:Europe/London
X-LIC-LOCATION:Europe/London
BEGIN:DAYLIGHT
TZOFFSETFROM:+0000
TZOFFSETTO:+0100
TZNAME:BST
DTSTART:19700329T010000
RRULE:FREQ=YEARLY;BYMONTH=3;BYDAY=-1SU
END:DAYLIGHT
BEGIN:STANDARD
TZOFFSETFROM:+0100
TZOFFSETTO:+0000
TZNAME:GMT
DTSTART:19701025T020000
RRULE:FREQ=YEARLY;BYMONTH=10;BYDAY=-1SU
END:STANDARD
END:VTIMEZONE
BEGIN:VEVENT
UID:6278630:Event:235421
DTSTAMP:20260422T142635Z
SUMMARY:Wolves Lane Plant Sale
DESCRIPTION:Sundays 11am  - 3pm\nWolves Lane is re-starting plants sa
 les. There will be a variety of edible plants, ornamentals and house p
 lants for sale each Sunday plus experienced growers on hand for advice
  and tips! Tomatoes, beans, squash, broccoli, leafy greens and herbs a
 vailable plus tropical plants and succulents taken from cuttings from 
 the plant house and cactus house.\nCash and card accepted.\n\n\nFor mo
 re information visit https://bowesandbounds.org/events/wolves-lane-plv
 es-lane-plant-sale
DTSTART;TZID=Europe/London:20210530T110000
DTEND;TZID=Europe/London:20210530T150000
CATEGORIES:"plant sale"
LOCATION:Wolves Lane Centre
WEBSITE:http://www.wolveslane.org
URL:http://www.wolveslane.org
CONTACT:
ORGANIZER;CN="Rachel Dring":https://bowesandbounds.org/profile/RachelD
 ring391
ATTACH;FMTTYPE="image/jpeg":https://storage.ning.com/topology/rest/1.0
 /file/get/8994982252?profile=original
ATTENDEE;ROLE=REQ-PARTICIPANT;PARTSTAT=ACCEPTED;RSVP=TRUE;CN="Rachel D
 ring":https://bowesandbounds.org/profile/RachelDring391
END:VEVENT
END:VCALENDAR
