BEGIN:VCALENDAR
PRODID:NingEventWidget-v1
VERSION:2.0
METHOD:PUBLISH
BEGIN:VTIMEZONE
TZID:Europe/London
X-LIC-LOCATION:Europe/London
BEGIN:DAYLIGHT
TZOFFSETFROM:+0000
TZOFFSETTO:+0100
TZNAME:BST
DTSTART:19700329T010000
RRULE:FREQ=YEARLY;BYMONTH=3;BYDAY=-1SU
END:DAYLIGHT
BEGIN:STANDARD
TZOFFSETFROM:+0100
TZOFFSETTO:+0000
TZNAME:GMT
DTSTART:19701025T020000
RRULE:FREQ=YEARLY;BYMONTH=10;BYDAY=-1SU
END:STANDARD
END:VTIMEZONE
BEGIN:VEVENT
UID:6278630:Event:247166
DTSTAMP:20260419T182042Z
SUMMARY:Women in Jazz Media presents: Laura Impallomeni Trio
DESCRIPTION:Photocredit: Mark Lord.\nDoors open 7pm, music starts at 8
 pm.\n\nFeaturing: Laura Impallomeni (trombone) Mei Kirby (piano and sy
 nths) Greg Sinclair (tenor sax)\n*Laura Impallomeni *is a jazz trombon
 ist, composer and musical director of various projects. In 2020 she gr
 aduated from her MMus in Jazz Trombone from Trinity Laban Conservatoir
 e of Music and Dance, where she studied improvisation and composition 
 under world famous musicians.\nShe went on to receive the Arts Council
  England ‘Develop Your Creative Practice Fund’ to compose a collec
 tion of original contemporary jazz compositions under skilled mentorsh
 ip, featuring trombone as the lead instrument.\nIn November 2020, she 
 debuted this body of work at a sold out concert at London Jazz Festiva
 l 2022 with her contemporary jazz quintet . She has just been awarded 
 the “record and Release’ grant from Help Musicians,. She expects t
 o release her debut jazz album in 2024.\nLaura has performed and toure
 d with various renowned artists such as First Aid Kit, The Dualers, Gi
 ffords Circus, Janet Kay and Ken Boothe. She is the musical director, 
 composer and trombonist of an original 11 piece afro jazz band called 
 ‘Yamäya’, who have just released their debut album ‘Senegal’ 
 on Funkiwala Records.\nShe is also the trombonist for Rootsgarden Dub 
 Soundsytem, The Voodoo Love Orchestra (cambia and salsa) and Barnacles
  (experimental jazz) and works for London music charity ‘Play for Pr
 ogress’ as a therapeutic music teacher/workshop leader with young as
 ylum seekers and refugees.\nOn the 25th of April she will perform a mi
 xture of some of her original compositions and her favourite standards
  alongside members of her quintet.\n\nKaramel - 4 Coburg Road, London 
 N22 6UJ The Karamel vegan kitchen will be serving food until 9.30pm.\n
 Email karamel8775@gmail.com to book a table.\n£5 (advance), £10 OT
 D\nDoors open 7pm, music starts at 8pm.\n\nFor more information visit 
 https://bowesandbounds.org/events/women-in-jazz-media-presents-laura-i
 mpallomeni-trio
DTSTART;TZID=Europe/London:20240425T200000
DTEND;TZID=Europe/London:20240425T220000
CATEGORIES:jazz, livemusic, veganvenue, food
LOCATION:4 Coburg Road, N22 6UJ
WEBSITE:https://www.musicglue.com/karamel/
URL:https://www.musicglue.com/karamel/
CONTACT:
ORGANIZER;CN="Collage Artspaces":https://bowesandbounds.org/profile/Co
 llage_Arts
ATTACH;FMTTYPE="image/jpeg":https://storage.ning.com/topology/rest/1.0
 /file/get/12428385868?profile=original
ATTENDEE;ROLE=REQ-PARTICIPANT;PARTSTAT=ACCEPTED;RSVP=TRUE;CN="Collage 
 Artspaces":https://bowesandbounds.org/profile/Collage_Arts
END:VEVENT
END:VCALENDAR
