BEGIN:VCALENDAR
PRODID:NingEventWidget-v1
VERSION:2.0
METHOD:PUBLISH
BEGIN:VTIMEZONE
TZID:Europe/London
X-LIC-LOCATION:Europe/London
BEGIN:DAYLIGHT
TZOFFSETFROM:+0000
TZOFFSETTO:+0100
TZNAME:BST
DTSTART:19700329T010000
RRULE:FREQ=YEARLY;BYMONTH=3;BYDAY=-1SU
END:DAYLIGHT
BEGIN:STANDARD
TZOFFSETFROM:+0100
TZOFFSETTO:+0000
TZNAME:GMT
DTSTART:19701025T020000
RRULE:FREQ=YEARLY;BYMONTH=10;BYDAY=-1SU
END:STANDARD
END:VTIMEZONE
BEGIN:VEVENT
UID:6278630:Event:253141
DTSTAMP:20260422T121651Z
SUMMARY:Womens BJJ Beginner's Course
DESCRIPTION:Learn something new this May! Our women-only BJJ intro cou
 rse is open to all women and girls aged 14+.Classes are taught by fema
 le Purple Belt Shahena Khanom. She'll be covering the basics of Brazil
 ian Jiu Jitsu, including techniques applicable to both self defence an
 d the sport.No experience is required, and you don't need a gi. Normal
  sportswear is fine for your first few classes. Just bring yourself an
 d have fun learning new skills in a friendly and supportive environmen
 t.We're running four sessions starting Thursday, 7th May - secure your
  spot for £45. Book now via our member portal at:https://originbjj.cl
 ubm.mobi/Portal/Shop/Buy/792493We look forward to seeing you on the ma
 ts next month!\n\nFor more information visit https://bowesandbounds.or
 g/events/womens-bjj-beginner-s-course
DTSTART;TZID=Europe/London:20260507T210000
DTEND;TZID=Europe/London:20260528T220000
CATEGORIES:martial, arts, course
LOCATION:Wood Green
WEBSITE:http://www.londonbjj.com
URL:http://www.londonbjj.com
CONTACT:
ORGANIZER;CN="Origin BJJ N22":https://bowesandbounds.org/profile/Origi
 nBJJN22
ATTACH;FMTTYPE="image/jpeg":
ATTENDEE;ROLE=REQ-PARTICIPANT;PARTSTAT=ACCEPTED;RSVP=TRUE;CN="Origin B
 JJ N22":https://bowesandbounds.org/profile/OriginBJJN22
END:VEVENT
END:VCALENDAR
