BEGIN:VCALENDAR
PRODID:NingEventWidget-v1
VERSION:2.0
METHOD:PUBLISH
BEGIN:VTIMEZONE
TZID:Europe/London
X-LIC-LOCATION:Europe/London
BEGIN:DAYLIGHT
TZOFFSETFROM:+0000
TZOFFSETTO:+0100
TZNAME:BST
DTSTART:19700329T010000
RRULE:FREQ=YEARLY;BYMONTH=3;BYDAY=-1SU
END:DAYLIGHT
BEGIN:STANDARD
TZOFFSETFROM:+0100
TZOFFSETTO:+0000
TZNAME:GMT
DTSTART:19701025T020000
RRULE:FREQ=YEARLY;BYMONTH=10;BYDAY=-1SU
END:STANDARD
END:VTIMEZONE
BEGIN:VEVENT
UID:6278630:Event:52120
DTSTAMP:20260419T152312Z
SUMMARY:Wood Green Area Forum and Committee
DESCRIPTION:The next meeting of the Wood Green Area Forum will take pl
 ace on Tuesday January 29th 5:30pm\nCypriot Centre,Earlham Grove, Lond
 on N22 5HJ. \nThis meeting is an opportunity for you to discuss local 
 issues with your Councillors. The meeting will also include a workshop
  discussing a local Area Plan\nAgenda and more information will be ava
 ilable on LB Haringey website.\n \n\nFor more information visit https
 ://bowesandbounds.org/events/wood-green-area-forum-and-committee-4
DTSTART;TZID=Europe/London:20130129T173000
DTEND;TZID=Europe/London:20130129T193000
CATEGORIES:"area forum"
LOCATION:Cypriot Centre
WEBSITE:https://maps.google.co.uk/maps?q=cypriot+centre+wood+green&oe=
 utf-8&client=firefox-a&channel=fflb&fb=1&gl=uk&hq=cypriot+centre&hnear
 =0x48761be252d49217:0x260eae2ec8a60691,Wood+Green,+Greater+London&cid=
 0,0,8277159423371784182&t=m&z=16&iwloc=A
URL:https://maps.google.co.uk/maps?q=cypriot+centre+wood+green&oe=utf-
 8&client=firefox-a&channel=fflb&fb=1&gl=uk&hq=cypriot+centre&hnear=0x4
 8761be252d49217:0x260eae2ec8a60691,Wood+Green,+Greater+London&cid=0,0,
 8277159423371784182&t=m&z=16&iwloc=A
CONTACT:
ORGANIZER;CN=Administrator:https://bowesandbounds.org/profile/Administ
 rator
ATTACH;FMTTYPE="image/jpeg":http://storage.ning.com/topology/rest/1.0/
 file/get/2287224996?profile=original
ATTENDEE;ROLE=REQ-PARTICIPANT;PARTSTAT=ACCEPTED;RSVP=TRUE;CN=Administr
 ator:https://bowesandbounds.org/profile/Administrator
END:VEVENT
END:VCALENDAR
