BEGIN:VCALENDAR
PRODID:NingEventWidget-v1
VERSION:2.0
METHOD:PUBLISH
BEGIN:VTIMEZONE
TZID:Europe/London
X-LIC-LOCATION:Europe/London
BEGIN:DAYLIGHT
TZOFFSETFROM:+0000
TZOFFSETTO:+0100
TZNAME:BST
DTSTART:19700329T010000
RRULE:FREQ=YEARLY;BYMONTH=3;BYDAY=-1SU
END:DAYLIGHT
BEGIN:STANDARD
TZOFFSETFROM:+0100
TZOFFSETTO:+0000
TZNAME:GMT
DTSTART:19701025T020000
RRULE:FREQ=YEARLY;BYMONTH=10;BYDAY=-1SU
END:STANDARD
END:VTIMEZONE
BEGIN:VEVENT
UID:6278630:Event:241211
DTSTAMP:20260421T085502Z
SUMMARY:Wood Green Community Fun Day 2022
DESCRIPTION:\n**UPDATE 9 September 2022** As a mark of respect to the
  Queen and news of her passing, the Wood Green Community Fun Day sched
 uled for this Sunday has been postponed to a later date. \nPlease rea
 d the official statement by Future Wood Green BID.\n=============\nJ
 oin us in Wood Green at Ducketts Common for a fun day out full of acti
 vities!\nSunday 11th September 2022!\n**Collage Arts are coordinating 
 the main stage and arts activities at the Wood Green Community Fun Day
  at Ducketts Common, in partnership with Future Wood Green BID**.\n**F
 REE to Attend Event – Ducketts Common N22** (close to Turnpike Lane 
 tube station).\nDiscover your local arts scene and enjoy a family fun 
 day!\nDive right in and get creative with the many different arts and 
 crafts workshops that will keep your little ones entertained! ( and ma
 ybe you too! )\nRelax and enjoy as the community comes together to sha
 re and explore a day full of art and fun!\nDrumming group, Children’
 s theatre, Arts and crafts workshops, DJ set, Live music stage, Food s
 talls, and much more.\n\n\nWHAT'S ON!\n\nMUSIC STAGE\nVVN and the ORIG
 IN (1pm)\nTomorrow's Warriors - JOTI Quintet (2.30pm)\nJames Riley ROO
 FTOP ASSEMBLY (4.15pm)\n\nTHE ARTS TENT\nRachel's Arts Club and making
  workshops (12.45pm, 2.45pm).\nThe Cowfoot Prince storytelling (1.45pm
 , 3.45pm).\nOUTDOOR MURAL PAINTING with YANA - Make Your City Grow! (t
 hroughout)\n\nDRUMMING and ACROBATICS with The Cowfoot Prince and UK A
 frican Acrobats (Drumming 12 noon, Acrobatics 2.30pm, 4.30pm)\n\nT-REX
  THE HUGE DINOSAUR! and more ....\n\nA whole variety of food stalls to
  pick from!\nA fun day out that the whole family will enjoy!\nA chance
  to make new memories with loved ones or maybe with someone new!\n\nFr
 ee entry – All welcome – Family friendly.\nRegister your interest 
 and RSVP.\nwww.wgcommunityday.co.uk\n\nSunday 11th September 2022! Sav
 e the Date!\n\nFor more information visit https://bowesandbounds.org/e
 vents/wood-green-community-fun-day-2022
DTSTART;TZID=Europe/London:20220911T120000
DTEND;TZID=Europe/London:20220911T170000
CATEGORIES:music, artsandcrafts, food, workshops, community
LOCATION:Ducketts Common, Harringay Ladder, Harringay N15 3DX
WEBSITE:https://www.eventbrite.co.uk/e/wood-green-community-fun-day-20
 22-tickets-381084462887?utm-campaign=social&amp;amp;amp;amp;amp;amp;ut
 m-content=attendeeshare&amp;amp;amp;amp;amp;amp;utm-medium=discovery&a
 mp;amp;amp;amp;amp;amp;utm-term=listing&amp;amp;amp;amp;amp;amp;utm-so
 urce=cp&amp;amp;amp;amp;amp;amp;aff=escb
URL:https://www.eventbrite.co.uk/e/wood-green-community-fun-day-2022-t
 ickets-381084462887?utm-campaign=social&amp;amp;amp;amp;amp;amp;utm-co
 ntent=attendeeshare&amp;amp;amp;amp;amp;amp;utm-medium=discovery&amp;a
 mp;amp;amp;amp;amp;utm-term=listing&amp;amp;amp;amp;amp;amp;utm-source
 =cp&amp;amp;amp;amp;amp;amp;aff=escb
CONTACT:
ORGANIZER;CN="Collage Artspaces":https://bowesandbounds.org/profile/Co
 llage_Arts
ATTACH;FMTTYPE="image/jpeg":https://storage.ning.com/topology/rest/1.0
 /file/get/10748219467?profile=original
ATTENDEE;ROLE=REQ-PARTICIPANT;PARTSTAT=ACCEPTED;RSVP=TRUE;CN="Collage 
 Artspaces":https://bowesandbounds.org/profile/Collage_Arts
END:VEVENT
END:VCALENDAR
