BEGIN:VCALENDAR
PRODID:NingEventWidget-v1
VERSION:2.0
METHOD:PUBLISH
BEGIN:VTIMEZONE
TZID:Europe/London
X-LIC-LOCATION:Europe/London
BEGIN:DAYLIGHT
TZOFFSETFROM:+0000
TZOFFSETTO:+0100
TZNAME:BST
DTSTART:19700329T010000
RRULE:FREQ=YEARLY;BYMONTH=3;BYDAY=-1SU
END:DAYLIGHT
BEGIN:STANDARD
TZOFFSETFROM:+0100
TZOFFSETTO:+0000
TZNAME:GMT
DTSTART:19701025T020000
RRULE:FREQ=YEARLY;BYMONTH=10;BYDAY=-1SU
END:STANDARD
END:VTIMEZONE
BEGIN:VEVENT
UID:6278630:Event:71743
DTSTAMP:20260422T053336Z
SUMMARY:Wood Green Local Food Conference
DESCRIPTION:Local food in Wood Green\nConference Wednesday, January 29
 , 6:30 to 8:30\nVenue: St Mark's Church Hall, Ashly Crescent N22 6LH (
 Next door to Noel Park School)  We are very fortunate to get a speaker
  who travels around the country helping people to create sustainable w
 ays to keep money within their own communities. For the conference he'
 s going to focus on supporting ways of creating local food sources.\nA
 ims:\nTo look at ways to build a local food network, helping to create
  sustainable ways of creating and sharing local food sources.\nTo expl
 ore economic, environmental and health benefits of creating local food
  networks.\n \nAgenda:\nDeveloping Noel Park Market\nCreating a local
  food hub\nSupporting growers\n \nSpeaker:\nPaul Squires, UNLTD award
 s manager and local economies consultant.\nPaul has travelled around t
 he country advising community groups on creating local economies and h
 elping create local networks to support them. He is co-author of the s
 tudy: Re-imagining the High Street: Escape from Clone Town Britain, fo
 r the New Economics foundation.\n \nCoordiator:\nRachella Sinclair, N
 oel Park Market\n \nFor more information contact Rachella Sinclair at
  NoelPark.market@gmail.com\n\nFor more information visit https://bowes
 andbounds.org/events/wood-green-local-food-conference
DTSTART;TZID=Europe/London:20140129T183000
DTEND;TZID=Europe/London:20140129T203000
CATEGORIES:local, food, conference
LOCATION:St. Mark's church Hall, N22 6LJ
WEBSITE:https://maps.google.co.uk/maps?q=st+mark+n22&oe=utf-8&client=f
 irefox-a&ie=UTF-8&ei=N8TfUqWZH-HJ0QXek4HgAw&ved=0CAkQ_AUoAQ
URL:https://maps.google.co.uk/maps?q=st+mark+n22&oe=utf-8&client=firef
 ox-a&ie=UTF-8&ei=N8TfUqWZH-HJ0QXek4HgAw&ved=0CAkQ_AUoAQ
CONTACT:020 8351 3969
ORGANIZER;CN="Rachella Sinclair":https://bowesandbounds.org/profile/Ra
 chellaSinclair
ATTACH;FMTTYPE="image/jpeg":http://storage.ning.com/topology/rest/1.0/
 file/get/2287259156?profile=original
ATTENDEE;ROLE=REQ-PARTICIPANT;PARTSTAT=ACCEPTED;RSVP=TRUE;CN="Rachella
  Sinclair":https://bowesandbounds.org/profile/RachellaSinclair
END:VEVENT
END:VCALENDAR
