BEGIN:VCALENDAR
PRODID:NingEventWidget-v1
VERSION:2.0
METHOD:PUBLISH
BEGIN:VTIMEZONE
TZID:Europe/London
X-LIC-LOCATION:Europe/London
BEGIN:DAYLIGHT
TZOFFSETFROM:+0000
TZOFFSETTO:+0100
TZNAME:BST
DTSTART:19700329T010000
RRULE:FREQ=YEARLY;BYMONTH=3;BYDAY=-1SU
END:DAYLIGHT
BEGIN:STANDARD
TZOFFSETFROM:+0100
TZOFFSETTO:+0000
TZNAME:GMT
DTSTART:19701025T020000
RRULE:FREQ=YEARLY;BYMONTH=10;BYDAY=-1SU
END:STANDARD
END:VTIMEZONE
BEGIN:VEVENT
UID:6278630:Event:125724
DTSTAMP:20260424T214108Z
SUMMARY:Wood Green Social Enterprise Forum - funding your enterprise
DESCRIPTION:Free event: How do you fund your social enterprise?\nWhat 
 do you do if you have a good idea but need a little help getting it of
 f the ground, or perhaps you need some funds to start a new project wi
 thin your business or to help a specific group or social issue? Perhap
 s something has changed and you need some funds to adjust?\nThis month
 's forum is going to look at funding for social enterprises.\nSpeakers
  will cover the different ways social enterprises from grants and awar
 ds, to running a profitable business.\nSpeakers will include people fr
 om:\nThe school of social entrepreneurs\nSpacehive\nNoel Park Big Loca
 l\nUnLtd\nLocal social entrepreneurs\nWe'll finish in the bar downstai
 rs for informal networking. \nRegister here: \nWood Green Social Ent
 erprise Forum - funding your enterprise\n\nFor more information visit 
 https://bowesandbounds.org/events/wood-green-social-enterprise-forum-f
 unding-your-enterprisesocia-1
DTSTART;TZID=Europe/London:20170726T180000
DTEND;TZID=Europe/London:20170726T200000
CATEGORIES:socialenterprise, localenterprisesupport
LOCATION:Green Rooms Hotel
WEBSITE:https://www.eventbrite.com/e/wood-green-social-enterprise-foru
 m-funding-your-enterprise-tickets-27542655825?aff=es2
URL:https://www.eventbrite.com/e/wood-green-social-enterprise-forum-fu
 nding-your-enterprise-tickets-27542655825?aff=es2
CONTACT:
ORGANIZER;CN="Rachella Sinclair":https://bowesandbounds.org/profile/Ra
 chellaSinclair
ATTACH;FMTTYPE="image/jpeg":http://storage.ning.com/topology/rest/1.0/
 file/get/2287320409?profile=original
ATTENDEE;ROLE=REQ-PARTICIPANT;PARTSTAT=ACCEPTED;RSVP=TRUE;CN="Rachella
  Sinclair":https://bowesandbounds.org/profile/RachellaSinclair
END:VEVENT
END:VCALENDAR
