BEGIN:VCALENDAR
PRODID:NingEventWidget-v1
VERSION:2.0
METHOD:PUBLISH
BEGIN:VTIMEZONE
TZID:Europe/London
X-LIC-LOCATION:Europe/London
BEGIN:DAYLIGHT
TZOFFSETFROM:+0000
TZOFFSETTO:+0100
TZNAME:BST
DTSTART:19700329T010000
RRULE:FREQ=YEARLY;BYMONTH=3;BYDAY=-1SU
END:DAYLIGHT
BEGIN:STANDARD
TZOFFSETFROM:+0100
TZOFFSETTO:+0000
TZNAME:GMT
DTSTART:19701025T020000
RRULE:FREQ=YEARLY;BYMONTH=10;BYDAY=-1SU
END:STANDARD
END:VTIMEZONE
BEGIN:VEVENT
UID:6278630:Event:114575
DTSTAMP:20260419T135340Z
SUMMARY:Xantoné Blacq Presents: An Evening With Jason Rebello and Rob
 ert Mitchell
DESCRIPTION:Torus, an established modern jazz quartet who have been to
 uring since the 1980s, bring their unique and retrospective music to K
 aramel. Compromising Gary Plumley (saxophones), Jonathan Gee (piano)
 , Mick Sexton (bass) and Trevor Taylor (drums), the group reformed to 
 celebrate the music of the period drawn from Steps Ahead, Keith Jarret
 t and Chick Corea. A night full of funky, surprising and reminiscent t
 unes.\n\n“Gary Plumley, surely the best under the radar tenor saxoph
 onist around, and throughout both sets on great favourites like Steps 
 Aheads Islands... Plumley was passionate, melodically sure, and both f
 ree or blues soaked funky ,as the material demanded.” – London Jaz
 z News\n\n“Trevor Taylor mainly functions in the free improv area w
 hich meant that his fills and patterns always had the element of  sur
 prise without losing grip on the groove held steady by Sexton.” – 
 London Jazz News\n\nFor more information visit https://bowesandbounds.
 org/events/xanton-blacq-presents-an-evening-with-jason-rebello-and-rob
 ert
DTSTART;TZID=Europe/London:20160608T200000
DTEND;TZID=Europe/London:20160608T230000
CATEGORIES:"'music'", "'jazz'", "'jazz", "music'", at, "karamel'", "'k
 aramel'", "'karamel", "restaurant'", "'music", in, "harringay'", "'har
 ringay", music, "night'"
LOCATION:Karamel
WEBSITE:http://karamelrestaurant.com/event/xantone-blacq-presents-an-e
 vening-with-jason-rebello-and-robert-mitchell/
URL:http://karamelrestaurant.com/event/xantone-blacq-presents-an-eveni
 ng-with-jason-rebello-and-robert-mitchell/
CONTACT:0208 829 8989
ORGANIZER:Xan Blacq Presents...
ATTACH;FMTTYPE="image/jpeg":http://storage.ning.com/topology/rest/1.0/
 file/get/2287310147?profile=original
ATTENDEE;ROLE=REQ-PARTICIPANT;PARTSTAT=ACCEPTED;RSVP=TRUE;CN="Events a
 t Karamel":https://bowesandbounds.org/profile/PhilSherman
END:VEVENT
END:VCALENDAR
