BEGIN:VCALENDAR
PRODID:NingEventWidget-v1
VERSION:2.0
METHOD:PUBLISH
BEGIN:VTIMEZONE
TZID:Europe/London
X-LIC-LOCATION:Europe/London
BEGIN:DAYLIGHT
TZOFFSETFROM:+0000
TZOFFSETTO:+0100
TZNAME:BST
DTSTART:19700329T010000
RRULE:FREQ=YEARLY;BYMONTH=3;BYDAY=-1SU
END:DAYLIGHT
BEGIN:STANDARD
TZOFFSETFROM:+0100
TZOFFSETTO:+0000
TZNAME:GMT
DTSTART:19701025T020000
RRULE:FREQ=YEARLY;BYMONTH=10;BYDAY=-1SU
END:STANDARD
END:VTIMEZONE
BEGIN:VEVENT
UID:6278630:Event:104163
DTSTAMP:20260422T000957Z
SUMMARY:Xantone Blacq Presents...An Evening With Jason Rebello
DESCRIPTION:Leading international artist / pianist Jason Rebello, feat
 ures in a special evening where his band will perform for and have an 
 open Q & A session with their audience. Have you ever had any question
 s about how Jason composes, how he started working with Sting and Jeff
  Beck? How about his work with the music and personalities of Peter Ga
 briel, Phil Collins, Pee Wee Ellis, Joss Stone, Madeline Peyroux, Manu
  Katche. Book your tickets and get the answers!\n\nFor more informatio
 n visit https://bowesandbounds.org/events/xantone-blacq-presents-an-ev
 ening-with-jason-rebello
DTSTART;TZID=Europe/London:20151209T190000
DTEND;TZID=Europe/London:20151209T230000
CATEGORIES:"'xantone", "blacq'", "'music'", "'music", "night'"
LOCATION:Karamel
WEBSITE:http://www.eventbrite.co.uk/e/xantone-blacq-presents-an-evenin
 g-with-jason-rebello-tickets-17980130053
URL:http://www.eventbrite.co.uk/e/xantone-blacq-presents-an-evening-wi
 th-jason-rebello-tickets-17980130053
CONTACT:
ORGANIZER;CN="Events at Karamel":https://bowesandbounds.org/profile/Ph
 ilSherman
ATTACH;FMTTYPE="image/jpeg":http://storage.ning.com/topology/rest/1.0/
 file/get/2287303138?profile=original
ATTENDEE;ROLE=REQ-PARTICIPANT;PARTSTAT=ACCEPTED;RSVP=TRUE;CN="Collage 
 Artspaces":https://bowesandbounds.org/profile/Collage_Arts
END:VEVENT
END:VCALENDAR
