BEGIN:VCALENDAR
PRODID:NingEventWidget-v1
VERSION:2.0
METHOD:PUBLISH
BEGIN:VTIMEZONE
TZID:Europe/London
X-LIC-LOCATION:Europe/London
BEGIN:DAYLIGHT
TZOFFSETFROM:+0000
TZOFFSETTO:+0100
TZNAME:BST
DTSTART:19700329T010000
RRULE:FREQ=YEARLY;BYMONTH=3;BYDAY=-1SU
END:DAYLIGHT
BEGIN:STANDARD
TZOFFSETFROM:+0100
TZOFFSETTO:+0000
TZNAME:GMT
DTSTART:19701025T020000
RRULE:FREQ=YEARLY;BYMONTH=10;BYDAY=-1SU
END:STANDARD
END:VTIMEZONE
BEGIN:VEVENT
UID:6278630:Event:107226
DTSTAMP:20260423T040631Z
SUMMARY:Xantone Blacq Presents: Roachford
DESCRIPTION:Andrew Roachford is a musical giant who was the leader and
  front man of incredibly successful band, Roachford. A platinum sellin
 g artist in his own right, Andrew has been a top level musician for a 
 long time and has rubbed shoulders with luminaries including Michael J
 ackson and Chaka Khan as well as being Lead Singer with Mike & The Mec
 hanics since 2011. With a brand new solo album about to come out, expe
 ct Andrew and his band to play his classics and perhaps to play a few 
 previews of the music from his fresh batch of Soul-filled songs. A tru
 ly great opportunity for you to see, hear and put your questions to a 
 long standing world class musician.\n\nFor more information visit http
 s://bowesandbounds.org/events/xantone-blacq-presents-roachford
DTSTART;TZID=Europe/London:20160210T200000
DTEND;TZID=Europe/London:20160210T230000
CATEGORIES:"'music'", "'roachford'", "'live", "music'", "'xan", "blacq
 '", "'roachford", "live'", "'karamel'"
LOCATION:Karamel
WEBSITE:https://xanblacqpresents.eventbrite.co.uk
URL:https://xanblacqpresents.eventbrite.co.uk
CONTACT:0208 829 8989
ORGANIZER:Xantone Blacq Presents...
ATTACH;FMTTYPE="image/jpeg":http://storage.ning.com/topology/rest/1.0/
 file/get/2287304798?profile=original
ATTENDEE;ROLE=REQ-PARTICIPANT;PARTSTAT=ACCEPTED;RSVP=TRUE;CN="Events a
 t Karamel":https://bowesandbounds.org/profile/PhilSherman
END:VEVENT
END:VCALENDAR
